FILENAME: O4510601.SWS.1010686.tif
QUADRANGLE_NAME: MCCLURE CREEK
QUADRANT: SW
WEST_LONGITUDE: -107 0 0.00000
EAST_LONGITUDE: -106 56 15.00000
NORTH_LATITUDE: 45 56 15.00000
SOUTH_LATITUDE: 45 52 30.00000
PRODUCTION_DATE: 1999 6 2
RASTER_ORDER: LEFT_RIGHT/TOP_BOTTOM
BAND_ORGANIZATION: SINGLE FILE
BAND_CONTENT: BLACK&WHITE
BAND_CONTENT: UNDEFINED
BAND_CONTENT: UNDEFINED
BITS_PER_PIXEL: 8
SAMPLES_AND_LINES: 5668 7667
HORIZONTAL_DATUM: NAD83
HORIZONTAL_COORDINATE_SYSTEM: UTM
COORDINATE_ZONE: 13
HORIZONTAL_UNITS: METERS
HORIZONTAL_RESOLUTION: 1.00000
SECONDARY_HORIZONTAL_DATUM: NAD27
XY_ORIGIN: 344440.00000 5089349.00000
SECONDARY_XY_ORIGIN: 344481.93500 5089131.18200
NATION: US
NATION: "SCIENCE
STATE: MT
NW_QUAD_CORNER_XY: 344962.08600 5089048.16800
NE_QUAD_CORNER_XY: 349806.96100 5088928.49400
SE_QUAD_CORNERY_XY: 349638.25200 5081984.55000
SW_QUAD_CORNER_XY: 344787.93000 5082104.23200
SECONDARY_NW_QUAD_XY: 344957.41400 5088830.29700
SECONDARY_NE_QUAD_XY: 349802.43600 5088710.62000
SECONDARY_SE_QUAD_XY: 349633.72800 5081766.72000
SECONDARY_SW_QUAD_XY: 344783.26000 5081886.40500
RMSE_XY: 1.10000
IMAGE_SOURCE: BLACK AND WHITE FILM
SOURCE_IMAGE_ID: NAPP 9099 043
SOURCE_IMAGE_DATE: 1996 07 14
SOURCE_IMAGE_ID: NAPP 9099 136
SOURCE_IMAGE_DATE: 1996 07 14
SOURCE_IMAGE_ID: NAPP 9099 042
SOURCE_IMAGE_DATE: 1996 07 14
SOURCE_DEM_DATE: 1997 00 00
AGENCY: WESTERN MAPPING CENTER (WMC)
PRODUCER: UNDEFINED
PRODUCTION_SYSTEM: GIS/MAGIC
COMPRESSION: UNDEFINED
STANDARD_VERSION: 1996 12
METADATA_DATE: 1999 06 09
DATA_FILE_SIZE: 43462224
BYTE_COUNT: 5668
