FILENAME: O4510603.SWS.1010698.tif
QUADRANGLE_NAME: COLSTRIP WEST
QUADRANT: SW
WEST_LONGITUDE: -106 45 0.00000
EAST_LONGITUDE: -106 41 15.00000
NORTH_LATITUDE: 45 56 15.00000
SOUTH_LATITUDE: 45 52 30.00000
PRODUCTION_DATE: 1999 6 2
RASTER_ORDER: LEFT_RIGHT/TOP_BOTTOM
BAND_ORGANIZATION: SINGLE FILE
BAND_CONTENT: BLACK&WHITE
BAND_CONTENT: UNDEFINED
BAND_CONTENT: UNDEFINED
BITS_PER_PIXEL: 8
SAMPLES_AND_LINES: 5646 7652
HORIZONTAL_DATUM: NAD83
HORIZONTAL_COORDINATE_SYSTEM: UTM
COORDINATE_ZONE: 13
HORIZONTAL_UNITS: METERS
HORIZONTAL_RESOLUTION: 1.00000
SECONDARY_HORIZONTAL_DATUM: NAD27
XY_ORIGIN: 363842.00000 5088893.00000
SECONDARY_XY_ORIGIN: 363883.56400 5088674.92500
NATION: US
NATION: "SCIENCE
STATE: MT
NW_QUAD_CORNER_XY: 364341.62200 5088592.28400
NE_QUAD_CORNER_XY: 369186.51900 5088487.81600
SE_QUAD_CORNERY_XY: 369039.59200 5081543.84300
SW_QUAD_CORNER_XY: 364189.24900 5081648.31700
SECONDARY_NW_QUAD_XY: 364337.53400 5088374.39900
SECONDARY_NE_QUAD_XY: 369182.57800 5088269.92900
SECONDARY_SE_QUAD_XY: 369035.65100 5081325.99900
SECONDARY_SW_QUAD_XY: 364185.16300 5081430.47700
RMSE_XY: 4.30000
IMAGE_SOURCE: BLACK AND WHITE FILM
SOURCE_IMAGE_ID: NAPP 9115 132
SOURCE_IMAGE_DATE: 1996 09 10
SOURCE_IMAGE_ID: NAPP 9115 066
SOURCE_IMAGE_DATE: 1996 09 10
SOURCE_IMAGE_ID: NAPP 9115 131
SOURCE_IMAGE_DATE: 1996 09 10
SOURCE_IMAGE_ID: NAPP 9115 133
SOURCE_IMAGE_DATE: 1996 09 10
SOURCE_DEM_DATE: 1988 00 00
AGENCY: WESTERN MAPPING CENTER (WMC)
PRODUCER: UNDEFINED
PRODUCTION_SYSTEM: GIS/MAGIC
COMPRESSION: UNDEFINED
STANDARD_VERSION: 1996 12
METADATA_DATE: 1999 06 09
DATA_FILE_SIZE: 43208838
BYTE_COUNT: 5646
