FILENAME: O4510603.NES.1010695.tif
QUADRANGLE_NAME: COLSTRIP WEST
QUADRANT: NE
WEST_LONGITUDE: -106 41 15.00000
EAST_LONGITUDE: -106 37 30.00000
NORTH_LATITUDE: 46 0 0.00000
SOUTH_LATITUDE: 45 56 15.00000
PRODUCTION_DATE: 1999 6 2
RASTER_ORDER: LEFT_RIGHT/TOP_BOTTOM
BAND_ORGANIZATION: SINGLE FILE
BAND_CONTENT: BLACK&WHITE
BAND_CONTENT: UNDEFINED
BAND_CONTENT: UNDEFINED
BITS_PER_PIXEL: 8
SAMPLES_AND_LINES: 5635 7648
HORIZONTAL_DATUM: NAD83
HORIZONTAL_COORDINATE_SYSTEM: UTM
COORDINATE_ZONE: 13
HORIZONTAL_UNITS: METERS
HORIZONTAL_RESOLUTION: 1.00000
SECONDARY_HORIZONTAL_DATUM: NAD27
XY_ORIGIN: 368840.00000 5095733.00000
SECONDARY_XY_ORIGIN: 368881.46400 5095514.79000
NATION: US
NATION: "SCIENCE
STATE: MT
NW_QUAD_CORNER_XY: 369333.60300 5095431.85900
NE_QUAD_CORNER_XY: 374173.05400 5095331.19900
SE_QUAD_CORNERY_XY: 374031.42100 5088387.14900
SW_QUAD_CORNER_XY: 369186.51900 5088487.81600
SECONDARY_NW_QUAD_XY: 369329.66100 5095213.92900
SECONDARY_NE_QUAD_XY: 374169.25800 5095113.26600
SECONDARY_SE_QUAD_XY: 374027.62600 5088169.25900
SECONDARY_SW_QUAD_XY: 369182.57800 5088269.92900
RMSE_XY: 1.80000
IMAGE_SOURCE: BLACK AND WHITE FILM
SOURCE_IMAGE_ID: NAPP 9111 059
SOURCE_IMAGE_DATE: 1996 08 11
SOURCE_IMAGE_ID: NAPP 9115 133
SOURCE_IMAGE_DATE: 1996 09 10
SOURCE_IMAGE_ID: NAPP 9111 058
SOURCE_IMAGE_DATE: 1996 08 11
SOURCE_IMAGE_ID: NAPP 9111 060
SOURCE_IMAGE_DATE: 1996 08 11
SOURCE_DEM_DATE: 1988 00 00
AGENCY: WESTERN MAPPING CENTER (WMC)
PRODUCER: UNDEFINED
PRODUCTION_SYSTEM: GIS/MAGIC
COMPRESSION: UNDEFINED
STANDARD_VERSION: 1996 12
METADATA_DATE: 1999 06 09
DATA_FILE_SIZE: 43102115
BYTE_COUNT: 5635
