FILENAME: O4510604.SWS.1010710.tif
QUADRANGLE_NAME: COLSTRIP EAST
QUADRANT: SW
WEST_LONGITUDE: -106 37 30.00000
EAST_LONGITUDE: -106 33 45.00000
NORTH_LATITUDE: 45 56 15.00000
SOUTH_LATITUDE: 45 52 30.00000
PRODUCTION_DATE: 1999 6 2
RASTER_ORDER: LEFT_RIGHT/TOP_BOTTOM
BAND_ORGANIZATION: SINGLE FILE
BAND_CONTENT: BLACK&WHITE
BAND_CONTENT: UNDEFINED
BAND_CONTENT: UNDEFINED
BITS_PER_PIXEL: 8
SAMPLES_AND_LINES: 5635 7644
HORIZONTAL_DATUM: NAD83
HORIZONTAL_COORDINATE_SYSTEM: UTM
COORDINATE_ZONE: 13
HORIZONTAL_UNITS: METERS
HORIZONTAL_RESOLUTION: 1.00000
SECONDARY_HORIZONTAL_DATUM: NAD27
XY_ORIGIN: 373543.00000 5088688.00000
SECONDARY_XY_ORIGIN: 373584.34300 5088469.75700
NATION: US
NATION: "SCIENCE
STATE: MT
NW_QUAD_CORNER_XY: 374031.42100 5088387.14900
NE_QUAD_CORNER_XY: 378876.32800 5088290.28300
SE_QUAD_CORNERY_XY: 378740.29000 5081346.29700
SW_QUAD_CORNER_XY: 373889.93800 5081443.16900
SECONDARY_NW_QUAD_XY: 374027.62600 5088169.25900
SECONDARY_NE_QUAD_XY: 378872.67900 5088072.39000
SECONDARY_SE_QUAD_XY: 378736.64100 5081128.44700
SECONDARY_SW_QUAD_XY: 373886.14400 5081225.32200
RMSE_XY: 1.40000
IMAGE_SOURCE: BLACK AND WHITE FILM
SOURCE_IMAGE_ID: NAPP 9110 240
SOURCE_IMAGE_DATE: 1996 08 11
SOURCE_IMAGE_ID: NAPP 9111 056
SOURCE_IMAGE_DATE: 1996 08 11
SOURCE_IMAGE_ID: NAPP 9111 057
SOURCE_IMAGE_DATE: 1996 08 11
SOURCE_IMAGE_ID: NAPP 9110 241
SOURCE_IMAGE_DATE: 1996 08 11
SOURCE_IMAGE_ID: NAPP 9110 239
SOURCE_IMAGE_DATE: 1996 08 11
SOURCE_DEM_DATE: 1988 00 00
AGENCY: WESTERN MAPPING CENTER (WMC)
PRODUCER: UNDEFINED
PRODUCTION_SYSTEM: GIS/MAGIC
COMPRESSION: UNDEFINED
STANDARD_VERSION: 1996 12
METADATA_DATE: 1999 06 09
DATA_FILE_SIZE: 43079575
BYTE_COUNT: 5635
