FILENAME: O4510607.SWS.1010743.tif
QUADRANGLE_NAME: BRANDENBERG NW
QUADRANT: SW
WEST_LONGITUDE: -106 15 0.00000
EAST_LONGITUDE: -106 11 15.00000
NORTH_LATITUDE: 45 56 15.00000
SOUTH_LATITUDE: 45 52 30.00000
PRODUCTION_DATE: 1999 6 4
RASTER_ORDER: LEFT_RIGHT/TOP_BOTTOM
BAND_ORGANIZATION: SINGLE FILE
BAND_CONTENT: BLACK&WHITE
BAND_CONTENT: UNDEFINED
BAND_CONTENT: UNDEFINED
BITS_PER_PIXEL: 8
SAMPLES_AND_LINES: 5600 7622
HORIZONTAL_DATUM: NAD83
HORIZONTAL_COORDINATE_SYSTEM: UTM
COORDINATE_ZONE: 13
HORIZONTAL_UNITS: METERS
HORIZONTAL_RESOLUTION: 1.00000
SECONDARY_HORIZONTAL_DATUM: NAD27
XY_ORIGIN: 402647.00000 5088164.00000
SECONDARY_XY_ORIGIN: 402687.86200 5087945.36100
NATION: US
NATION: "SCIENCE
STATE: MT
NW_QUAD_CORNER_XY: 403100.92700 5087862.95500
NE_QUAD_CORNER_XY: 407945.85800 5087788.88900
SE_QUAD_CORNERY_XY: 407842.48000 5080844.86900
SW_QUAD_CORNER_XY: 402992.10600 5080918.94100
SECONDARY_NW_QUAD_XY: 403098.00800 5087645.04900
SECONDARY_NE_QUAD_XY: 407943.08500 5087570.98000
SECONDARY_SE_QUAD_XY: 407839.70700 5080627.00400
SECONDARY_SW_QUAD_XY: 402989.18700 5080701.07800
RMSE_XY: 1.20000
IMAGE_SOURCE: BLACK AND WHITE FILM
SOURCE_IMAGE_ID: NAPP 10722 036
SOURCE_IMAGE_DATE: 1997 08 25
SOURCE_IMAGE_ID: NAPP 9090 150
SOURCE_IMAGE_DATE: 1996 07 07
SOURCE_IMAGE_ID: NAPP 10722 035
SOURCE_IMAGE_DATE: 1997 08 25
SOURCE_IMAGE_ID: NAPP 10722 034
SOURCE_IMAGE_DATE: 1997 08 25
SOURCE_DEM_DATE: 1970 00 00
AGENCY: WESTERN MAPPING CENTER (WMC)
PRODUCER: UNDEFINED
PRODUCTION_SYSTEM: GIS/MAGIC
COMPRESSION: UNDEFINED
STANDARD_VERSION: 1996 12
METADATA_DATE: 1999 06 09
DATA_FILE_SIZE: 42688800
BYTE_COUNT: 5600
