FILENAME: O4510607.NES.1010740.tif
QUADRANGLE_NAME: BRANDENBERG NW
QUADRANT: NE
WEST_LONGITUDE: -106 11 15.00000
EAST_LONGITUDE: -106 7 30.00000
NORTH_LATITUDE: 46 0 0.00000
SOUTH_LATITUDE: 45 56 15.00000
PRODUCTION_DATE: 1999 6 4
RASTER_ORDER: LEFT_RIGHT/TOP_BOTTOM
BAND_ORGANIZATION: SINGLE FILE
BAND_CONTENT: BLACK&WHITE
BAND_CONTENT: UNDEFINED
BAND_CONTENT: UNDEFINED
BITS_PER_PIXEL: 8
SAMPLES_AND_LINES: 5589 7618
HORIZONTAL_DATUM: NAD83
HORIZONTAL_COORDINATE_SYSTEM: UTM
COORDINATE_ZONE: 13
HORIZONTAL_UNITS: METERS
HORIZONTAL_RESOLUTION: 1.00000
SECONDARY_HORIZONTAL_DATUM: NAD27
XY_ORIGIN: 407601.00000 5095034.00000
SECONDARY_XY_ORIGIN: 407641.80100 5094815.37700
NATION: US
NATION: "SCIENCE
STATE: MT
NW_QUAD_CORNER_XY: 408049.34700 5094732.98100
NE_QUAD_CORNER_XY: 412888.83400 5094662.71900
SE_QUAD_CORNERY_XY: 412790.79300 5087718.62200
SW_QUAD_CORNER_XY: 407945.85800 5087788.88900
SECONDARY_NW_QUAD_XY: 408046.57300 5094515.03000
SECONDARY_NE_QUAD_XY: 412886.20600 5094444.76600
SECONDARY_SE_QUAD_XY: 412788.16600 5087500.71100
SECONDARY_SW_QUAD_XY: 407943.08500 5087570.98000
RMSE_XY: 1.20000
IMAGE_SOURCE: BLACK AND WHITE FILM
SOURCE_IMAGE_ID: NAPP 9090 144
SOURCE_IMAGE_DATE: 1996 07 07
SOURCE_IMAGE_ID: NAPP 9090 143
SOURCE_IMAGE_DATE: 1996 07 07
SOURCE_IMAGE_ID: NAPP 9106 011
SOURCE_IMAGE_DATE: 1996 08 07
SOURCE_DEM_DATE: 1970 00 00
AGENCY: WESTERN MAPPING CENTER (WMC)
PRODUCER: UNDEFINED
PRODUCTION_SYSTEM: GIS/MAGIC
COMPRESSION: UNDEFINED
STANDARD_VERSION: 1996 12
METADATA_DATE: 1999 06 09
DATA_FILE_SIZE: 42582591
BYTE_COUNT: 5589
