FILENAME: O4510609.SWS.1010626.tif
QUADRANGLE_NAME: SARPY SCHOOL
QUADRANT: SW
WEST_LONGITUDE: -107 0 0.00000
EAST_LONGITUDE: -106 56 15.00000
NORTH_LATITUDE: 45 48 45.00000
SOUTH_LATITUDE: 45 45 0.00000
PRODUCTION_DATE: 1999 5 24
RASTER_ORDER: LEFT_RIGHT/TOP_BOTTOM
BAND_ORGANIZATION: SINGLE FILE
BAND_CONTENT: BLACK&WHITE
BAND_CONTENT: UNDEFINED
BAND_CONTENT: UNDEFINED
BITS_PER_PIXEL: 8
SAMPLES_AND_LINES: 5679 7667
HORIZONTAL_DATUM: NAD83
HORIZONTAL_COORDINATE_SYSTEM: UTM
COORDINATE_ZONE: 13
HORIZONTAL_UNITS: METERS
HORIZONTAL_RESOLUTION: 1.00000
SECONDARY_HORIZONTAL_DATUM: NAD27
XY_ORIGIN: 344092.00000 5075461.00000
SECONDARY_XY_ORIGIN: 344133.88400 5075243.37800
NATION: US
NATION: "SCIENCE
STATE: MT
NW_QUAD_CORNER_XY: 344613.96000 5075160.36300
NE_QUAD_CORNER_XY: 349469.72300 5075040.67400
SE_QUAD_CORNERY_XY: 349301.37400 5068096.86600
SW_QUAD_CORNER_XY: 344440.17700 5068216.56200
SECONDARY_NW_QUAD_XY: 344609.29200 5074942.58000
SECONDARY_NE_QUAD_XY: 349465.20000 5074822.88800
SECONDARY_SE_QUAD_XY: 349296.85300 5067879.12400
SECONDARY_SW_QUAD_XY: 344435.50900 5067998.82300
RMSE_XY: 1.30000
IMAGE_SOURCE: BLACK AND WHITE FILM
SOURCE_IMAGE_ID: NAPP 9099 039
SOURCE_IMAGE_DATE: 1996 07 14
SOURCE_IMAGE_ID: NAPP 9122 005
SOURCE_IMAGE_DATE: 1996 09 11
SOURCE_DEM_DATE: 1997 00 00
AGENCY: WESTERN MAPPING CENTER (WMC)
PRODUCER: UNDEFINED
PRODUCTION_SYSTEM: GIS/MAGIC
COMPRESSION: UNDEFINED
STANDARD_VERSION: 1996 12
METADATA_DATE: 1999 06 07
DATA_FILE_SIZE: 43546572
BYTE_COUNT: 5679
