FILENAME: O4510610.SWS.1010630.tif
QUADRANGLE_NAME: ROUGH DRAW
QUADRANT: SW
WEST_LONGITUDE: -106 52 30.00000
EAST_LONGITUDE: -106 48 45.00000
NORTH_LATITUDE: 45 48 45.00000
SOUTH_LATITUDE: 45 45 0.00000
PRODUCTION_DATE: 1999 6 4
RASTER_ORDER: LEFT_RIGHT/TOP_BOTTOM
BAND_ORGANIZATION: SINGLE FILE
BAND_CONTENT: BLACK&WHITE
BAND_CONTENT: UNDEFINED
BAND_CONTENT: UNDEFINED
BITS_PER_PIXEL: 8
SAMPLES_AND_LINES: 5668 7659
HORIZONTAL_DATUM: NAD83
HORIZONTAL_COORDINATE_SYSTEM: UTM
COORDINATE_ZONE: 13
HORIZONTAL_UNITS: METERS
HORIZONTAL_RESOLUTION: 1.00000
SECONDARY_HORIZONTAL_DATUM: NAD27
XY_ORIGIN: 353815.00000 5075225.00000
SECONDARY_XY_ORIGIN: 353856.71300 5075007.21500
NATION: US
NATION: "SCIENCE
STATE: MT
NW_QUAD_CORNER_XY: 354325.49100 5074924.78800
NE_QUAD_CORNER_XY: 359181.26300 5074812.70300
SE_QUAD_CORNERY_XY: 359023.78300 5067868.88200
SW_QUAD_CORNER_XY: 354162.57600 5067980.97300
SECONDARY_NW_QUAD_XY: 354321.11400 5074706.99700
SECONDARY_NE_QUAD_XY: 359177.03200 5074594.91000
SECONDARY_SE_QUAD_XY: 359019.55300 5067651.13300
SECONDARY_SW_QUAD_XY: 354158.20000 5067763.22700
RMSE_XY: 1.80000
IMAGE_SOURCE: BLACK AND WHITE FILM
SOURCE_IMAGE_ID: NAPP 9115 043
SOURCE_IMAGE_DATE: 1996 09 10
SOURCE_IMAGE_ID: NAPP 9085 164
SOURCE_IMAGE_DATE: 1996 06 13
SOURCE_IMAGE_ID: NAPP 9085 162
SOURCE_IMAGE_DATE: 1996 06 13
SOURCE_IMAGE_ID: NAPP 9115 039
SOURCE_IMAGE_DATE: 1996 09 10
SOURCE_IMAGE_ID: NAPP 9115 040
SOURCE_IMAGE_DATE: 1996 09 10
SOURCE_DEM_DATE: 1997 01 01
AGENCY: WESTERN MAPPING CENTER (WMC)
PRODUCER: UNDEFINED
PRODUCTION_SYSTEM: GIS/MAGIC
COMPRESSION: UNDEFINED
STANDARD_VERSION: 1996 12
METADATA_DATE: 1999 06 07
DATA_FILE_SIZE: 43416880
BYTE_COUNT: 5668
