FILENAME: O4510610.SES.1010629.tif
QUADRANGLE_NAME: ROUGH DRAW
QUADRANT: SE
WEST_LONGITUDE: -106 48 45.00000
EAST_LONGITUDE: -106 45 0.00000
NORTH_LATITUDE: 45 48 45.00000
SOUTH_LATITUDE: 45 45 0.00000
PRODUCTION_DATE: 1999 5 24
RASTER_ORDER: LEFT_RIGHT/TOP_BOTTOM
BAND_ORGANIZATION: SINGLE FILE
BAND_CONTENT: BLACK&WHITE
BAND_CONTENT: UNDEFINED
BAND_CONTENT: UNDEFINED
BITS_PER_PIXEL: 8
SAMPLES_AND_LINES: 5663 7655
HORIZONTAL_DATUM: NAD83
HORIZONTAL_COORDINATE_SYSTEM: UTM
COORDINATE_ZONE: 13
HORIZONTAL_UNITS: METERS
HORIZONTAL_RESOLUTION: 1.00000
SECONDARY_HORIZONTAL_DATUM: NAD27
XY_ORIGIN: 358676.00000 5075113.00000
SECONDARY_XY_ORIGIN: 358717.62800 5074895.13300
NATION: US
NATION: "SCIENCE
STATE: MT
NW_QUAD_CORNER_XY: 359181.26300 5074812.70300
NE_QUAD_CORNER_XY: 364037.04000 5074704.42100
SE_QUAD_CORNERY_XY: 363884.99300 5067760.59300
SW_QUAD_CORNER_XY: 359023.78300 5067868.88200
SECONDARY_NW_QUAD_XY: 359177.03200 5074594.91000
SECONDARY_NE_QUAD_XY: 364032.95500 5074486.62400
SECONDARY_SE_QUAD_XY: 363880.90900 5067542.84100
SECONDARY_SW_QUAD_XY: 359019.55300 5067651.13300
RMSE_XY: 4.20000
IMAGE_SOURCE: BLACK AND WHITE FILM
SOURCE_IMAGE_ID: NAPP 9115 069
SOURCE_IMAGE_DATE: 1996 09 10
SOURCE_IMAGE_ID: NAPP 9115 040
SOURCE_IMAGE_DATE: 1996 09 10
SOURCE_IMAGE_ID: NAPP 9115 042
SOURCE_IMAGE_DATE: 1996 09 10
SOURCE_IMAGE_ID: NAPP 9115 070
SOURCE_IMAGE_DATE: 1996 09 10
SOURCE_DEM_DATE: 1997 01 01
AGENCY: WESTERN MAPPING CENTER (WMC)
PRODUCER: UNDEFINED
PRODUCTION_SYSTEM: GIS/MAGIC
COMPRESSION: UNDEFINED
STANDARD_VERSION: 1996 12
METADATA_DATE: 1999 06 07
DATA_FILE_SIZE: 43355928
BYTE_COUNT: 5663
