FILENAME: O4510611.SWS.1010638.tif
QUADRANGLE_NAME: COLSTRIP SW
QUADRANT: SW
WEST_LONGITUDE: -106 45 0.00000
EAST_LONGITUDE: -106 41 15.00000
NORTH_LATITUDE: 45 48 45.00000
SOUTH_LATITUDE: 45 45 0.00000
PRODUCTION_DATE: 1999 5 24
RASTER_ORDER: LEFT_RIGHT/TOP_BOTTOM
BAND_ORGANIZATION: SINGLE FILE
BAND_CONTENT: BLACK&WHITE
BAND_CONTENT: UNDEFINED
BAND_CONTENT: UNDEFINED
BITS_PER_PIXEL: 8
SAMPLES_AND_LINES: 5656 7651
HORIZONTAL_DATUM: NAD83
HORIZONTAL_COORDINATE_SYSTEM: UTM
COORDINATE_ZONE: 13
HORIZONTAL_UNITS: METERS
HORIZONTAL_RESOLUTION: 1.00000
SECONDARY_HORIZONTAL_DATUM: NAD27
XY_ORIGIN: 363538.00000 5075005.00000
SECONDARY_XY_ORIGIN: 363579.54800 5074787.05400
NATION: US
NATION: "SCIENCE
STATE: MT
NW_QUAD_CORNER_XY: 364037.04000 5074704.42100
NE_QUAD_CORNER_XY: 368892.82100 5074599.94000
SE_QUAD_CORNERY_XY: 368746.20800 5067656.10600
SW_QUAD_CORNER_XY: 363884.99300 5067760.59300
SECONDARY_NW_QUAD_XY: 364032.95500 5074486.62400
SECONDARY_NE_QUAD_XY: 368888.88200 5074382.14000
SECONDARY_SE_QUAD_XY: 368742.27000 5067438.35100
SECONDARY_SW_QUAD_XY: 363880.90900 5067542.84100
RMSE_XY: 2.50000
IMAGE_SOURCE: BLACK AND WHITE FILM
SOURCE_IMAGE_ID: NAPP 9115 128
SOURCE_IMAGE_DATE: 1996 09 10
SOURCE_IMAGE_ID: NAPP 9115 070
SOURCE_IMAGE_DATE: 1996 09 10
SOURCE_IMAGE_ID: NAPP 9115 127
SOURCE_IMAGE_DATE: 1996 09 10
SOURCE_IMAGE_ID: NAPP 9115 129
SOURCE_IMAGE_DATE: 1996 09 10
SOURCE_DEM_DATE: 1988 00 00
AGENCY: WESTERN MAPPING CENTER (WMC)
PRODUCER: UNDEFINED
PRODUCTION_SYSTEM: GIS/MAGIC
COMPRESSION: UNDEFINED
STANDARD_VERSION: 1996 12
METADATA_DATE: 1999 06 07
DATA_FILE_SIZE: 43279712
BYTE_COUNT: 5656
