FILENAME: O4510611.SES.1010637.tif
QUADRANGLE_NAME: COLSTRIP SW
QUADRANT: SE
WEST_LONGITUDE: -106 41 15.00000
EAST_LONGITUDE: -106 37 30.00000
NORTH_LATITUDE: 45 48 45.00000
SOUTH_LATITUDE: 45 45 0.00000
PRODUCTION_DATE: 1999 5 24
RASTER_ORDER: LEFT_RIGHT/TOP_BOTTOM
BAND_ORGANIZATION: SINGLE FILE
BAND_CONTENT: BLACK&WHITE
BAND_CONTENT: UNDEFINED
BAND_CONTENT: UNDEFINED
BITS_PER_PIXEL: 8
SAMPLES_AND_LINES: 5651 7648
HORIZONTAL_DATUM: NAD83
HORIZONTAL_COORDINATE_SYSTEM: UTM
COORDINATE_ZONE: 13
HORIZONTAL_UNITS: METERS
HORIZONTAL_RESOLUTION: 1.00000
SECONDARY_HORIZONTAL_DATUM: NAD27
XY_ORIGIN: 368399.00000 5074901.00000
SECONDARY_XY_ORIGIN: 368440.43200 5074682.94700
NATION: US
NATION: "SCIENCE
STATE: MT
NW_QUAD_CORNER_XY: 368892.82100 5074599.94000
NE_QUAD_CORNER_XY: 373748.60700 5074499.26000
SE_QUAD_CORNERY_XY: 373607.42700 5067555.42100
SW_QUAD_CORNER_XY: 368746.20800 5067656.10600
SECONDARY_NW_QUAD_XY: 368888.88200 5074382.14000
SECONDARY_NE_QUAD_XY: 373744.81400 5074281.45700
SECONDARY_SE_QUAD_XY: 373603.63400 5067337.66300
SECONDARY_SW_QUAD_XY: 368742.27000 5067438.35100
RMSE_XY: 3.20000
IMAGE_SOURCE: BLACK AND WHITE FILM
SOURCE_IMAGE_ID: NAPP 9111 055
SOURCE_IMAGE_DATE: 1996 08 11
SOURCE_IMAGE_ID: NAPP 9115 127
SOURCE_IMAGE_DATE: 1996 09 10
SOURCE_IMAGE_ID: NAPP 9115 129
SOURCE_IMAGE_DATE: 1996 09 10
SOURCE_IMAGE_ID: NAPP 9111 052
SOURCE_IMAGE_DATE: 1996 08 11
SOURCE_IMAGE_ID: NAPP 9111 054
SOURCE_IMAGE_DATE: 1996 08 11
SOURCE_DEM_DATE: 1988 00 00
AGENCY: WESTERN MAPPING CENTER (WMC)
PRODUCER: UNDEFINED
PRODUCTION_SYSTEM: GIS/MAGIC
COMPRESSION: UNDEFINED
STANDARD_VERSION: 1996 12
METADATA_DATE: 1999 06 07
DATA_FILE_SIZE: 43224499
BYTE_COUNT: 5651
