FILENAME: O4510611.NWS.1010636.tif
QUADRANGLE_NAME: COLSTRIP SW
QUADRANT: NW
WEST_LONGITUDE: -106 45 0.00000
EAST_LONGITUDE: -106 41 15.00000
NORTH_LATITUDE: 45 52 30.00000
SOUTH_LATITUDE: 45 48 45.00000
PRODUCTION_DATE: 1999 5 24
RASTER_ORDER: LEFT_RIGHT/TOP_BOTTOM
BAND_ORGANIZATION: SINGLE FILE
BAND_CONTENT: BLACK&WHITE
BAND_CONTENT: UNDEFINED
BAND_CONTENT: UNDEFINED
BITS_PER_PIXEL: 8
SAMPLES_AND_LINES: 5651 7652
HORIZONTAL_DATUM: NAD83
HORIZONTAL_COORDINATE_SYSTEM: UTM
COORDINATE_ZONE: 13
HORIZONTAL_UNITS: METERS
HORIZONTAL_RESOLUTION: 1.00000
SECONDARY_HORIZONTAL_DATUM: NAD27
XY_ORIGIN: 363690.00000 5081949.00000
SECONDARY_XY_ORIGIN: 363731.55600 5081730.98900
NATION: US
NATION: "SCIENCE
STATE: MT
NW_QUAD_CORNER_XY: 364189.24900 5081648.31700
NE_QUAD_CORNER_XY: 369039.59200 5081543.84300
SE_QUAD_CORNERY_XY: 368892.82100 5074599.94000
SW_QUAD_CORNER_XY: 364037.04000 5074704.42100
SECONDARY_NW_QUAD_XY: 364185.16300 5081430.47700
SECONDARY_NE_QUAD_XY: 369035.65100 5081325.99900
SECONDARY_SE_QUAD_XY: 368888.88200 5074382.14000
SECONDARY_SW_QUAD_XY: 364032.95500 5074486.62400
RMSE_XY: 2.20000
IMAGE_SOURCE: BLACK AND WHITE FILM
SOURCE_IMAGE_ID: NAPP 9115 130
SOURCE_IMAGE_DATE: 1996 09 10
SOURCE_IMAGE_ID: NAPP 9115 066
SOURCE_IMAGE_DATE: 1996 09 10
SOURCE_IMAGE_ID: NAPP 9115 129
SOURCE_IMAGE_DATE: 1996 09 10
SOURCE_IMAGE_ID: NAPP 9115 131
SOURCE_IMAGE_DATE: 1996 09 10
SOURCE_DEM_DATE: 1988 00 00
AGENCY: WESTERN MAPPING CENTER (WMC)
PRODUCER: UNDEFINED
PRODUCTION_SYSTEM: GIS/MAGIC
COMPRESSION: UNDEFINED
STANDARD_VERSION: 1996 12
METADATA_DATE: 1999 06 07
DATA_FILE_SIZE: 43247103
BYTE_COUNT: 5651
