FILENAME: O4510611.NES.1010635.tif
QUADRANGLE_NAME: COLSTRIP SW
QUADRANT: NE
WEST_LONGITUDE: -106 41 15.00000
EAST_LONGITUDE: -106 37 30.00000
NORTH_LATITUDE: 45 52 30.00000
SOUTH_LATITUDE: 45 48 45.00000
PRODUCTION_DATE: 1999 6 4
RASTER_ORDER: LEFT_RIGHT/TOP_BOTTOM
BAND_ORGANIZATION: SINGLE FILE
BAND_CONTENT: BLACK&WHITE
BAND_CONTENT: UNDEFINED
BAND_CONTENT: UNDEFINED
BITS_PER_PIXEL: 8
SAMPLES_AND_LINES: 5645 7648
HORIZONTAL_DATUM: NAD83
HORIZONTAL_COORDINATE_SYSTEM: UTM
COORDINATE_ZONE: 13
HORIZONTAL_UNITS: METERS
HORIZONTAL_RESOLUTION: 1.00000
SECONDARY_HORIZONTAL_DATUM: NAD27
XY_ORIGIN: 368546.00000 5081845.00000
SECONDARY_XY_ORIGIN: 368587.44300 5081626.89400
NATION: US
NATION: "SCIENCE
STATE: MT
NW_QUAD_CORNER_XY: 369039.59200 5081543.84300
NE_QUAD_CORNER_XY: 373889.93800 5081443.16900
SE_QUAD_CORNERY_XY: 373748.60700 5074499.26000
SW_QUAD_CORNER_XY: 368892.82100 5074599.94000
SECONDARY_NW_QUAD_XY: 369035.65100 5081325.99900
SECONDARY_NE_QUAD_XY: 373886.14400 5081225.32200
SECONDARY_SE_QUAD_XY: 373744.81400 5074281.45700
SECONDARY_SW_QUAD_XY: 368888.88200 5074382.14000
RMSE_XY: 2.60000
IMAGE_SOURCE: BLACK AND WHITE FILM
SOURCE_IMAGE_ID: NAPP 9111 055
SOURCE_IMAGE_DATE: 1996 08 11
SOURCE_IMAGE_ID: NAPP 9115 129
SOURCE_IMAGE_DATE: 1996 09 10
SOURCE_IMAGE_ID: NAPP 9115 131
SOURCE_IMAGE_DATE: 1996 09 10
SOURCE_IMAGE_ID: NAPP 9111 054
SOURCE_IMAGE_DATE: 1996 08 11
SOURCE_IMAGE_ID: NAPP 9111 056
SOURCE_IMAGE_DATE: 1996 08 11
SOURCE_DEM_DATE: 1988 00 00
AGENCY: WESTERN MAPPING CENTER (WMC)
PRODUCER: UNDEFINED
PRODUCTION_SYSTEM: GIS/MAGIC
COMPRESSION: UNDEFINED
STANDARD_VERSION: 1996 12
METADATA_DATE: 1999 06 07
DATA_FILE_SIZE: 43178605
BYTE_COUNT: 5645
