FILENAME: O4510613.SWS.1010646.tif
QUADRANGLE_NAME: HAMMOND DRAW SW
QUADRANT: SW
WEST_LONGITUDE: -106 30 0.00000
EAST_LONGITUDE: -106 26 15.00000
NORTH_LATITUDE: 45 48 45.00000
SOUTH_LATITUDE: 45 45 0.00000
PRODUCTION_DATE: 1999 6 4
RASTER_ORDER: LEFT_RIGHT/TOP_BOTTOM
BAND_ORGANIZATION: SINGLE FILE
BAND_CONTENT: BLACK&WHITE
BAND_CONTENT: UNDEFINED
BAND_CONTENT: UNDEFINED
BITS_PER_PIXEL: 8
SAMPLES_AND_LINES: 5633 7636
HORIZONTAL_DATUM: NAD83
HORIZONTAL_COORDINATE_SYSTEM: UTM
COORDINATE_ZONE: 13
HORIZONTAL_UNITS: METERS
HORIZONTAL_RESOLUTION: 1.00000
SECONDARY_HORIZONTAL_DATUM: NAD27
XY_ORIGIN: 382984.00000 5074610.00000
SECONDARY_XY_ORIGIN: 383025.07300 5074391.61700
NATION: US
NATION: "SCIENCE
STATE: MT
NW_QUAD_CORNER_XY: 383460.19000 5074309.30400
NE_QUAD_CORNER_XY: 388315.98700 5074220.02700
SE_QUAD_CORNERY_XY: 388191.10400 5067276.17200
SW_QUAD_CORNER_XY: 383329.87500 5067365.45400
SECONDARY_NW_QUAD_XY: 383456.68900 5074091.49500
SECONDARY_NE_QUAD_XY: 388312.63200 5074002.21600
SECONDARY_SE_QUAD_XY: 388187.74900 5067058.40600
SECONDARY_SW_QUAD_XY: 383326.37400 5067147.69000
RMSE_XY: 1.30000
IMAGE_SOURCE: BLACK AND WHITE FILM
SOURCE_IMAGE_ID: NAPP 9115 159
SOURCE_IMAGE_DATE: 1996 09 10
SOURCE_IMAGE_ID: NAPP 9110 034
SOURCE_IMAGE_DATE: 1996 08 11
SOURCE_IMAGE_ID: NAPP 9110 036
SOURCE_IMAGE_DATE: 1996 08 11
SOURCE_IMAGE_ID: NAPP 9115 160
SOURCE_IMAGE_DATE: 1996 09 10
SOURCE_DEM_DATE: 1970 00 00
AGENCY: WESTERN MAPPING CENTER (WMC)
PRODUCER: UNDEFINED
PRODUCTION_SYSTEM: GIS/MAGIC
COMPRESSION: UNDEFINED
STANDARD_VERSION: 1996 12
METADATA_DATE: 1999 06 07
DATA_FILE_SIZE: 43019221
BYTE_COUNT: 5633
