FILENAME: O4510613.NES.1010643.tif
QUADRANGLE_NAME: HAMMOND DRAW SW
QUADRANT: NE
WEST_LONGITUDE: -106 26 15.00000
EAST_LONGITUDE: -106 22 30.00000
NORTH_LATITUDE: 45 52 30.00000
SOUTH_LATITUDE: 45 48 45.00000
PRODUCTION_DATE: 1999 5 24
RASTER_ORDER: LEFT_RIGHT/TOP_BOTTOM
BAND_ORGANIZATION: SINGLE FILE
BAND_CONTENT: BLACK&WHITE
BAND_CONTENT: UNDEFINED
BAND_CONTENT: UNDEFINED
BITS_PER_PIXEL: 8
SAMPLES_AND_LINES: 5623 7633
HORIZONTAL_DATUM: NAD83
HORIZONTAL_COORDINATE_SYSTEM: UTM
COORDINATE_ZONE: 13
HORIZONTAL_UNITS: METERS
HORIZONTAL_RESOLUTION: 1.00000
SECONDARY_HORIZONTAL_DATUM: NAD27
XY_ORIGIN: 387970.00000 5081465.00000
SECONDARY_XY_ORIGIN: 388011.04300 5081246.53900
NATION: US
NATION: "SCIENCE
STATE: MT
NW_QUAD_CORNER_XY: 388441.00500 5081163.95400
NE_QUAD_CORNER_XY: 393291.36800 5081078.48300
SE_QUAD_CORNERY_XY: 393171.78800 5074134.55100
SW_QUAD_CORNER_XY: 388315.98700 5074220.02700
SECONDARY_NW_QUAD_XY: 388437.64800 5080946.09800
SECONDARY_NE_QUAD_XY: 393288.15700 5080860.62500
SECONDARY_SE_QUAD_XY: 393168.57900 5073916.73700
SECONDARY_SW_QUAD_XY: 388312.63200 5074002.21600
RMSE_XY: 0.90000
IMAGE_SOURCE: BLACK AND WHITE FILM
SOURCE_IMAGE_ID: NAPP 9122 035
SOURCE_IMAGE_DATE: 1996 09 11
SOURCE_IMAGE_ID: NAPP 9115 156
SOURCE_IMAGE_DATE: 1996 09 10
SOURCE_IMAGE_ID: NAPP 9106 237
SOURCE_IMAGE_DATE: 1996 08 07
SOURCE_DEM_DATE: 1970 00 00
AGENCY: WESTERN MAPPING CENTER (WMC)
PRODUCER: UNDEFINED
PRODUCTION_SYSTEM: GIS/MAGIC
COMPRESSION: UNDEFINED
STANDARD_VERSION: 1996 12
METADATA_DATE: 1999 06 07
DATA_FILE_SIZE: 42925982
BYTE_COUNT: 5623
