FILENAME: O4510614.SES.1010838.tif
QUADRANGLE_NAME: HAMMOND DRAW
QUADRANT: SE
WEST_LONGITUDE: -106 18 45.00000
EAST_LONGITUDE: -106 15 0.00000
NORTH_LATITUDE: 45 48 45.00000
SOUTH_LATITUDE: 45 45 0.00000
PRODUCTION_DATE: 1999 5 24
RASTER_ORDER: LEFT_RIGHT/TOP_BOTTOM
BAND_ORGANIZATION: SINGLE FILE
BAND_CONTENT: BLACK&WHITE
BAND_CONTENT: UNDEFINED
BAND_CONTENT: UNDEFINED
BITS_PER_PIXEL: 8
SAMPLES_AND_LINES: 5617 7625
HORIZONTAL_DATUM: NAD83
HORIZONTAL_COORDINATE_SYSTEM: UTM
COORDINATE_ZONE: 13
HORIZONTAL_UNITS: METERS
HORIZONTAL_RESOLUTION: 1.00000
SECONDARY_HORIZONTAL_DATUM: NAD27
XY_ORIGIN: 397568.00000 5074354.00000
SECONDARY_XY_ORIGIN: 397608.96100 5074135.40100
NATION: US
NATION: "SCIENCE
STATE: MT
NW_QUAD_CORNER_XY: 398027.59300 5074052.87500
NE_QUAD_CORNER_XY: 402883.40000 5073974.99900
SE_QUAD_CORNERY_XY: 402774.81200 5067031.13000
SW_QUAD_CORNER_XY: 397913.57300 5067109.01000
SECONDARY_NW_QUAD_XY: 398024.52900 5073835.05900
SECONDARY_NE_QUAD_XY: 402880.48300 5073757.18000
SECONDARY_SE_QUAD_XY: 402771.89500 5066813.35600
SECONDARY_SW_QUAD_XY: 397910.51000 5066891.23900
RMSE_XY: 0.80000
IMAGE_SOURCE: BLACK AND WHITE FILM
SOURCE_IMAGE_ID: NAPP 9097 030
SOURCE_IMAGE_DATE: 1996 07 12
SOURCE_IMAGE_ID: NAPP 9097 029
SOURCE_IMAGE_DATE: 1996 07 12
SOURCE_DEM_DATE: 1970 00 00
AGENCY: WESTERN MAPPING CENTER (WMC)
PRODUCER: UNDEFINED
PRODUCTION_SYSTEM: GIS/MAGIC
COMPRESSION: UNDEFINED
STANDARD_VERSION: 1996 12
METADATA_DATE: 1999 06 25
DATA_FILE_SIZE: 42835242
BYTE_COUNT: 5617
