FILENAME: O4510615.SWS.1010843.tif
QUADRANGLE_NAME: BRANDENBERG
QUADRANT: SW
WEST_LONGITUDE: -106 15 0.00000
EAST_LONGITUDE: -106 11 15.00000
NORTH_LATITUDE: 45 48 45.00000
SOUTH_LATITUDE: 45 45 0.00000
PRODUCTION_DATE: 1999 6 4
RASTER_ORDER: LEFT_RIGHT/TOP_BOTTOM
BAND_ORGANIZATION: SINGLE FILE
BAND_CONTENT: BLACK&WHITE
BAND_CONTENT: UNDEFINED
BAND_CONTENT: UNDEFINED
BITS_PER_PIXEL: 8
SAMPLES_AND_LINES: 5612 7621
HORIZONTAL_DATUM: NAD83
HORIZONTAL_COORDINATE_SYSTEM: UTM
COORDINATE_ZONE: 13
HORIZONTAL_UNITS: METERS
HORIZONTAL_RESOLUTION: 1.00000
SECONDARY_HORIZONTAL_DATUM: NAD27
XY_ORIGIN: 402429.00000 5074276.00000
SECONDARY_XY_ORIGIN: 402469.92900 5074057.31000
NATION: US
NATION: "SCIENCE
STATE: MT
NW_QUAD_CORNER_XY: 402883.40000 5073974.99900
NE_QUAD_CORNER_XY: 407739.21100 5073900.92300
SE_QUAD_CORNERY_XY: 407636.05300 5066957.05000
SW_QUAD_CORNER_XY: 402774.81200 5067031.13000
SECONDARY_NW_QUAD_XY: 402880.48300 5073757.18000
SECONDARY_NE_QUAD_XY: 407736.43900 5073683.10200
SECONDARY_SE_QUAD_XY: 407633.28200 5066739.27400
SECONDARY_SW_QUAD_XY: 402771.89500 5066813.35600
RMSE_XY: 1.40000
IMAGE_SOURCE: BLACK AND WHITE FILM
SOURCE_IMAGE_ID: NAPP 9090 153
SOURCE_IMAGE_DATE: 1996 07 07
SOURCE_IMAGE_ID: NAPP 9097 029
SOURCE_IMAGE_DATE: 1996 07 12
SOURCE_IMAGE_ID: NAPP 9090 154
SOURCE_IMAGE_DATE: 1996 07 07
SOURCE_IMAGE_ID: NAPP 9090 152
SOURCE_IMAGE_DATE: 1996 07 07
SOURCE_DEM_DATE: 1970 00 00
AGENCY: WESTERN MAPPING CENTER (WMC)
PRODUCER: UNDEFINED
PRODUCTION_SYSTEM: GIS/MAGIC
COMPRESSION: UNDEFINED
STANDARD_VERSION: 1996 12
METADATA_DATE: 1999 06 25
DATA_FILE_SIZE: 42774664
BYTE_COUNT: 5612
