FILENAME: O4510617.SWS.1010388.tif
QUADRANGLE_NAME: CHALKY POINT
QUADRANT: SW
WEST_LONGITUDE: -107 0 0.00000
EAST_LONGITUDE: -106 56 15.00000
NORTH_LATITUDE: 45 41 15.00000
SOUTH_LATITUDE: 45 37 30.00000
PRODUCTION_DATE: 1999 6 1
RASTER_ORDER: LEFT_RIGHT/TOP_BOTTOM
BAND_ORGANIZATION: SINGLE FILE
BAND_CONTENT: BLACK&WHITE
BAND_CONTENT: UNDEFINED
BAND_CONTENT: UNDEFINED
BITS_PER_PIXEL: 8
SAMPLES_AND_LINES: 5691 7667
HORIZONTAL_DATUM: NAD83
HORIZONTAL_COORDINATE_SYSTEM: UTM
COORDINATE_ZONE: 13
HORIZONTAL_UNITS: METERS
HORIZONTAL_RESOLUTION: 1.00000
SECONDARY_HORIZONTAL_DATUM: NAD27
XY_ORIGIN: 343744.00000 5061573.00000
SECONDARY_XY_ORIGIN: 343786.19500 5061355.70500
NATION: US
NATION: "SCIENCE
STATE: MT
NW_QUAD_CORNER_XY: 344266.58000 5061272.82700
NE_QUAD_CORNER_XY: 349133.20600 5061153.12500
SE_QUAD_CORNERY_XY: 348965.21800 5054209.45200
SW_QUAD_CORNER_XY: 344093.16900 5054329.15900
SECONDARY_NW_QUAD_XY: 344261.91300 5061055.13500
SECONDARY_NE_QUAD_XY: 349128.68500 5060935.42900
SECONDARY_SE_QUAD_XY: 348960.69900 5053991.80200
SECONDARY_SW_QUAD_XY: 344088.50300 5054111.51400
RMSE_XY: 4.70000
IMAGE_SOURCE: BLACK AND WHITE FILM
SOURCE_IMAGE_ID: NAPP 9099 035
SOURCE_IMAGE_DATE: 1996 07 14
SOURCE_IMAGE_ID: NAPP 9122 009
SOURCE_IMAGE_DATE: 1996 09 11
SOURCE_IMAGE_ID: NAPP 9122 008
SOURCE_IMAGE_DATE: 1996 09 11
SOURCE_IMAGE_ID: NAPP 9122 007
SOURCE_IMAGE_DATE: 1996 09 11
SOURCE_IMAGE_ID: NAPP 9099 034
SOURCE_IMAGE_DATE: 1996 07 14
SOURCE_DEM_DATE: 1987 00 00
AGENCY: WESTERN MAPPING CENTER (WMC)
PRODUCER: UNDEFINED
PRODUCTION_SYSTEM: GIS/MAGIC
COMPRESSION: UNDEFINED
STANDARD_VERSION: 1996 12
METADATA_DATE: 1999 06 14
DATA_FILE_SIZE: 43638588
BYTE_COUNT: 5691
