FILENAME: O4510619.SWS.1010412.tif
QUADRANGLE_NAME: JIMTOWN
QUADRANT: SW
WEST_LONGITUDE: -106 45 0.00000
EAST_LONGITUDE: -106 41 15.00000
NORTH_LATITUDE: 45 41 15.00000
SOUTH_LATITUDE: 45 37 30.00000
PRODUCTION_DATE: 1999 6 8
RASTER_ORDER: LEFT_RIGHT/TOP_BOTTOM
BAND_ORGANIZATION: SINGLE FILE
BAND_CONTENT: BLACK&WHITE
BAND_CONTENT: UNDEFINED
BAND_CONTENT: UNDEFINED
BITS_PER_PIXEL: 8
SAMPLES_AND_LINES: 5667 7651
HORIZONTAL_DATUM: NAD83
HORIZONTAL_COORDINATE_SYSTEM: UTM
COORDINATE_ZONE: 13
HORIZONTAL_UNITS: METERS
HORIZONTAL_RESOLUTION: 1.00000
SECONDARY_HORIZONTAL_DATUM: NAD27
XY_ORIGIN: 363234.00000 5061117.00000
SECONDARY_XY_ORIGIN: 363275.80300 5060899.28800
NATION: US
NATION: "SCIENCE
STATE: MT
NW_QUAD_CORNER_XY: 363733.11000 5060816.83400
NE_QUAD_CORNER_XY: 368599.75200 5060712.34200
SE_QUAD_CORNERY_XY: 368453.45300 5053768.64800
SW_QUAD_CORNER_XY: 363581.38900 5053873.14500
SECONDARY_NW_QUAD_XY: 363729.02700 5060599.12800
SECONDARY_NE_QUAD_XY: 368595.81500 5060494.63300
SECONDARY_SE_QUAD_XY: 368449.51700 5053550.98500
SECONDARY_SW_QUAD_XY: 363577.30700 5053655.48600
RMSE_XY: 1.70000
IMAGE_SOURCE: BLACK AND WHITE FILM
SOURCE_IMAGE_ID: NAPP 9115 124
SOURCE_IMAGE_DATE: 1996 09 10
SOURCE_IMAGE_ID: NAPP 9115 072
SOURCE_IMAGE_DATE: 1996 09 10
SOURCE_IMAGE_ID: NAPP 9115 123
SOURCE_IMAGE_DATE: 1996 09 10
SOURCE_DEM_DATE: 1987 00 00
AGENCY: WESTERN MAPPING CENTER (WMC)
PRODUCER: UNDEFINED
PRODUCTION_SYSTEM: GIS/MAGIC
COMPRESSION: UNDEFINED
STANDARD_VERSION: 1996 12
METADATA_DATE: 1999 06 14
DATA_FILE_SIZE: 43363884
BYTE_COUNT: 5667
