FILENAME: O4510619.SES.1010411.tif
QUADRANGLE_NAME: JIMTOWN
QUADRANT: SE
WEST_LONGITUDE: -106 41 15.00000
EAST_LONGITUDE: -106 37 30.00000
NORTH_LATITUDE: 45 41 15.00000
SOUTH_LATITUDE: 45 37 30.00000
PRODUCTION_DATE: 1999 6 3
RASTER_ORDER: LEFT_RIGHT/TOP_BOTTOM
BAND_ORGANIZATION: SINGLE FILE
BAND_CONTENT: BLACK&WHITE
BAND_CONTENT: UNDEFINED
BAND_CONTENT: UNDEFINED
BITS_PER_PIXEL: 8
SAMPLES_AND_LINES: 5662 7648
HORIZONTAL_DATUM: NAD83
HORIZONTAL_COORDINATE_SYSTEM: UTM
COORDINATE_ZONE: 13
HORIZONTAL_UNITS: METERS
HORIZONTAL_RESOLUTION: 1.00000
SECONDARY_HORIZONTAL_DATUM: NAD27
XY_ORIGIN: 368106.00000 5061013.00000
SECONDARY_XY_ORIGIN: 368147.68000 5060795.15800
NATION: US
NATION: "SCIENCE
STATE: MT
NW_QUAD_CORNER_XY: 368599.75200 5060712.34200
NE_QUAD_CORNER_XY: 373466.39800 5060611.65100
SE_QUAD_CORNERY_XY: 373325.52000 5053667.95300
SW_QUAD_CORNER_XY: 368453.45300 5053768.64800
SECONDARY_NW_QUAD_XY: 368595.81500 5060494.63300
SECONDARY_NE_QUAD_XY: 373462.60600 5060393.93900
SECONDARY_SE_QUAD_XY: 373321.73000 5053450.28700
SECONDARY_SW_QUAD_XY: 368449.51700 5053550.98500
RMSE_XY: 4.50000
IMAGE_SOURCE: BLACK AND WHITE FILM
SOURCE_IMAGE_ID: NAPP 9111 049
SOURCE_IMAGE_DATE: 1996 08 11
SOURCE_IMAGE_ID: NAPP 9115 123
SOURCE_IMAGE_DATE: 1996 09 10
SOURCE_IMAGE_ID: NAPP 9111 048
SOURCE_IMAGE_DATE: 1996 08 11
SOURCE_DEM_DATE: 1987 00 00
AGENCY: WESTERN MAPPING CENTER (WMC)
PRODUCER: UNDEFINED
PRODUCTION_SYSTEM: GIS/MAGIC
COMPRESSION: UNDEFINED
STANDARD_VERSION: 1996 12
METADATA_DATE: 1999 06 14
DATA_FILE_SIZE: 43308638
BYTE_COUNT: 5662
