FILENAME: O4510619.NES.1010409.tif
QUADRANGLE_NAME: JIMTOWN
QUADRANT: NE
WEST_LONGITUDE: -106 41 15.00000
EAST_LONGITUDE: -106 37 30.00000
NORTH_LATITUDE: 45 45 0.00000
SOUTH_LATITUDE: 45 41 15.00000
PRODUCTION_DATE: 1999 6 3
RASTER_ORDER: LEFT_RIGHT/TOP_BOTTOM
BAND_ORGANIZATION: SINGLE FILE
BAND_CONTENT: BLACK&WHITE
BAND_CONTENT: UNDEFINED
BAND_CONTENT: UNDEFINED
BITS_PER_PIXEL: 8
SAMPLES_AND_LINES: 5656 7648
HORIZONTAL_DATUM: NAD83
HORIZONTAL_COORDINATE_SYSTEM: UTM
COORDINATE_ZONE: 13
HORIZONTAL_UNITS: METERS
HORIZONTAL_RESOLUTION: 1.00000
SECONDARY_HORIZONTAL_DATUM: NAD27
XY_ORIGIN: 368253.00000 5067957.00000
SECONDARY_XY_ORIGIN: 368294.41000 5067738.99500
NATION: US
NATION: "SCIENCE
STATE: MT
NW_QUAD_CORNER_XY: 368746.20800 5067656.10600
NE_QUAD_CORNER_XY: 373607.42700 5067555.42100
SE_QUAD_CORNERY_XY: 373466.39800 5060611.65100
SW_QUAD_CORNER_XY: 368599.75200 5060712.34200
SECONDARY_NW_QUAD_XY: 368742.27000 5067438.35100
SECONDARY_NE_QUAD_XY: 373603.63400 5067337.66300
SECONDARY_SE_QUAD_XY: 373462.60600 5060393.93900
SECONDARY_SW_QUAD_XY: 368595.81500 5060494.63300
RMSE_XY: 1.90000
IMAGE_SOURCE: BLACK AND WHITE FILM
SOURCE_IMAGE_ID: NAPP 9111 051
SOURCE_IMAGE_DATE: 1996 08 11
SOURCE_IMAGE_ID: NAPP 9115 127
SOURCE_IMAGE_DATE: 1996 09 10
SOURCE_IMAGE_ID: NAPP 9111 050
SOURCE_IMAGE_DATE: 1996 08 11
SOURCE_IMAGE_ID: NAPP 9110 247
SOURCE_IMAGE_DATE: 1996 08 11
SOURCE_IMAGE_ID: NAPP 9110 246
SOURCE_IMAGE_DATE: 1996 08 11
SOURCE_DEM_DATE: 1987 00 00
AGENCY: WESTERN MAPPING CENTER (WMC)
PRODUCER: UNDEFINED
PRODUCTION_SYSTEM: GIS/MAGIC
COMPRESSION: UNDEFINED
STANDARD_VERSION: 1996 12
METADATA_DATE: 1999 06 14
DATA_FILE_SIZE: 43262744
BYTE_COUNT: 5656
