FILENAME: O4510620.SES.1010442.tif
QUADRANGLE_NAME: BADGER PEAK
QUADRANT: SE
WEST_LONGITUDE: -106 33 45.00000
EAST_LONGITUDE: -106 30 0.00000
NORTH_LATITUDE: 45 41 15.00000
SOUTH_LATITUDE: 45 37 30.00000
PRODUCTION_DATE: 1999 6 8
RASTER_ORDER: LEFT_RIGHT/TOP_BOTTOM
BAND_ORGANIZATION: SINGLE FILE
BAND_CONTENT: BLACK&WHITE
BAND_CONTENT: UNDEFINED
BAND_CONTENT: UNDEFINED
BITS_PER_PIXEL: 8
SAMPLES_AND_LINES: 5650 7641
HORIZONTAL_DATUM: NAD83
HORIZONTAL_COORDINATE_SYSTEM: UTM
COORDINATE_ZONE: 13
HORIZONTAL_UNITS: METERS
HORIZONTAL_RESOLUTION: 1.00000
SECONDARY_HORIZONTAL_DATUM: NAD27
XY_ORIGIN: 377851.00000 5060816.00000
SECONDARY_XY_ORIGIN: 377892.43500 5060597.89800
NATION: US
NATION: "SCIENCE
STATE: MT
NW_QUAD_CORNER_XY: 378333.04700 5060514.76300
NE_QUAD_CORNER_XY: 383199.69900 5060421.67500
SE_QUAD_CORNERY_XY: 383069.66400 5053477.96700
SW_QUAD_CORNER_XY: 378197.59000 5053571.05900
SECONDARY_NW_QUAD_XY: 378329.40100 5060297.04700
SECONDARY_NE_QUAD_XY: 383196.19900 5060203.95700
SECONDARY_SE_QUAD_XY: 383066.16500 5053260.29600
SECONDARY_SW_QUAD_XY: 378193.94600 5053353.39000
RMSE_XY: 2.00000
IMAGE_SOURCE: BLACK AND WHITE FILM
SOURCE_IMAGE_ID: NAPP 9110 031
SOURCE_IMAGE_DATE: 1996 08 11
SOURCE_IMAGE_ID: NAPP 9122 026
SOURCE_IMAGE_DATE: 1996 09 11
SOURCE_IMAGE_ID: NAPP 9110 248
SOURCE_IMAGE_DATE: 1996 08 11
SOURCE_IMAGE_ID: NAPP 9110 032
SOURCE_IMAGE_DATE: 1996 08 11
SOURCE_DEM_DATE: 1987 00 00
AGENCY: WESTERN MAPPING CENTER (WMC)
PRODUCER: UNDEFINED
PRODUCTION_SYSTEM: GIS/MAGIC
COMPRESSION: UNDEFINED
STANDARD_VERSION: 1996 12
METADATA_DATE: 1999 06 14
DATA_FILE_SIZE: 43177300
BYTE_COUNT: 5650
