FILENAME: O4510620.NES.1010436.tif
QUADRANGLE_NAME: BADGER PEAK
QUADRANT: NE
WEST_LONGITUDE: -106 33 45.00000
EAST_LONGITUDE: -106 30 0.00000
NORTH_LATITUDE: 45 45 0.00000
SOUTH_LATITUDE: 45 41 15.00000
PRODUCTION_DATE: 1999 6 8
RASTER_ORDER: LEFT_RIGHT/TOP_BOTTOM
BAND_ORGANIZATION: SINGLE FILE
BAND_CONTENT: BLACK&WHITE
BAND_CONTENT: UNDEFINED
BAND_CONTENT: UNDEFINED
BITS_PER_PIXEL: 8
SAMPLES_AND_LINES: 5645 7641
HORIZONTAL_DATUM: NAD83
HORIZONTAL_COORDINATE_SYSTEM: UTM
COORDINATE_ZONE: 13
HORIZONTAL_UNITS: METERS
HORIZONTAL_RESOLUTION: 1.00000
SECONDARY_HORIZONTAL_DATUM: NAD27
XY_ORIGIN: 377986.00000 5067760.00000
SECONDARY_XY_ORIGIN: 378027.17400 5067541.75400
NATION: US
NATION: "SCIENCE
STATE: MT
NW_QUAD_CORNER_XY: 378468.64900 5067458.53700
NE_QUAD_CORNER_XY: 383329.87500 5067365.45400
SE_QUAD_CORNERY_XY: 383199.69900 5060421.67500
SW_QUAD_CORNER_XY: 378333.04700 5060514.76300
SECONDARY_NW_QUAD_XY: 378465.00200 5067240.77600
SECONDARY_NE_QUAD_XY: 383326.37400 5067147.69000
SECONDARY_SE_QUAD_XY: 383196.19900 5060203.95700
SECONDARY_SW_QUAD_XY: 378329.40100 5060297.04700
RMSE_XY: 3.20000
IMAGE_SOURCE: BLACK AND WHITE FILM
SOURCE_IMAGE_ID: NAPP 9110 033
SOURCE_IMAGE_DATE: 1996 08 11
SOURCE_IMAGE_ID: NAPP 9110 247
SOURCE_IMAGE_DATE: 1996 08 11
SOURCE_IMAGE_ID: NAPP 9110 246
SOURCE_IMAGE_DATE: 1996 08 11
SOURCE_IMAGE_ID: NAPP 9110 245
SOURCE_IMAGE_DATE: 1996 08 11
SOURCE_DEM_DATE: 1987 00 00
AGENCY: WESTERN MAPPING CENTER (WMC)
PRODUCER: UNDEFINED
PRODUCTION_SYSTEM: GIS/MAGIC
COMPRESSION: UNDEFINED
STANDARD_VERSION: 1996 12
METADATA_DATE: 1999 06 14
DATA_FILE_SIZE: 43139090
BYTE_COUNT: 5645
