FILENAME: O4510621.SES.1010446.tif
QUADRANGLE_NAME: GARFIELD PEAK
QUADRANT: SE
WEST_LONGITUDE: -106 26 15.00000
EAST_LONGITUDE: -106 22 30.00000
NORTH_LATITUDE: 45 41 15.00000
SOUTH_LATITUDE: 45 37 30.00000
PRODUCTION_DATE: 1999 6 9
RASTER_ORDER: LEFT_RIGHT/TOP_BOTTOM
BAND_ORGANIZATION: SINGLE FILE
BAND_CONTENT: BLACK&WHITE
BAND_CONTENT: UNDEFINED
BAND_CONTENT: UNDEFINED
BITS_PER_PIXEL: 8
SAMPLES_AND_LINES: 5640 7632
HORIZONTAL_DATUM: NAD83
HORIZONTAL_COORDINATE_SYSTEM: UTM
COORDINATE_ZONE: 13
HORIZONTAL_UNITS: METERS
HORIZONTAL_RESOLUTION: 1.00000
SECONDARY_HORIZONTAL_DATUM: NAD27
XY_ORIGIN: 387595.00000 5060633.00000
SECONDARY_XY_ORIGIN: 387636.27100 5060414.67700
NATION: US
NATION: "SCIENCE
STATE: MT
NW_QUAD_CORNER_XY: 388066.35500 5060332.38800
NE_QUAD_CORNER_XY: 392933.01400 5060246.90300
SE_QUAD_CORNERY_XY: 392813.81800 5053303.18700
SW_QUAD_CORNER_XY: 387941.74000 5053388.67600
SECONDARY_NW_QUAD_XY: 388063.00100 5060114.66800
SECONDARY_NE_QUAD_XY: 392929.80500 5060029.18000
SECONDARY_SE_QUAD_XY: 392810.61100 5053085.51000
SECONDARY_SW_QUAD_XY: 387938.38700 5053171.00200
RMSE_XY: 2.00000
IMAGE_SOURCE: BLACK AND WHITE FILM
SOURCE_IMAGE_ID: NAPP 9106 230
SOURCE_IMAGE_DATE: 1996 08 07
SOURCE_IMAGE_ID: NAPP 9115 164
SOURCE_IMAGE_DATE: 1996 09 10
SOURCE_IMAGE_ID: NAPP 9106 229
SOURCE_IMAGE_DATE: 1996 08 07
SOURCE_IMAGE_ID: NAPP 9106 231
SOURCE_IMAGE_DATE: 1996 08 07
SOURCE_DEM_DATE: 1987 00 00
AGENCY: WESTERN MAPPING CENTER (WMC)
PRODUCER: UNDEFINED
PRODUCTION_SYSTEM: GIS/MAGIC
COMPRESSION: UNDEFINED
STANDARD_VERSION: 1996 12
METADATA_DATE: 1999 06 14
DATA_FILE_SIZE: 43050120
BYTE_COUNT: 5640
