FILENAME: O4510623.NWS.1010461.tif
QUADRANGLE_NAME: COOK CREEK RESERVOIR
QUADRANT: NW
WEST_LONGITUDE: -106 15 0.00000
EAST_LONGITUDE: -106 11 15.00000
NORTH_LATITUDE: 45 45 0.00000
SOUTH_LATITUDE: 45 41 15.00000
PRODUCTION_DATE: 1999 6 9
RASTER_ORDER: LEFT_RIGHT/TOP_BOTTOM
BAND_ORGANIZATION: SINGLE FILE
BAND_CONTENT: BLACK&WHITE
BAND_CONTENT: UNDEFINED
BAND_CONTENT: UNDEFINED
BITS_PER_PIXEL: 8
SAMPLES_AND_LINES: 5617 7622
HORIZONTAL_DATUM: NAD83
HORIZONTAL_COORDINATE_SYSTEM: UTM
COORDINATE_ZONE: 13
HORIZONTAL_UNITS: METERS
HORIZONTAL_RESOLUTION: 1.00000
SECONDARY_HORIZONTAL_DATUM: NAD27
XY_ORIGIN: 402321.00000 5067333.00000
SECONDARY_XY_ORIGIN: 402361.96200 5067114.28100
NATION: US
NATION: "SCIENCE
STATE: MT
NW_QUAD_CORNER_XY: 402774.81200 5067031.13000
NE_QUAD_CORNER_XY: 407636.05300 5066957.05000
SE_QUAD_CORNERY_XY: 407533.00600 5060013.25000
SW_QUAD_CORNER_XY: 402666.33900 5060087.33400
SECONDARY_NW_QUAD_XY: 402771.89500 5066813.35600
SECONDARY_NE_QUAD_XY: 407633.28200 5066739.27400
SECONDARY_SE_QUAD_XY: 407530.23600 5059795.52000
SECONDARY_SW_QUAD_XY: 402663.42300 5059869.60600
RMSE_XY: 1.10000
IMAGE_SOURCE: BLACK AND WHITE FILM
SOURCE_IMAGE_ID: NAPP 9090 155
SOURCE_IMAGE_DATE: 1996 07 07
SOURCE_IMAGE_ID: NAPP 9097 029
SOURCE_IMAGE_DATE: 1996 07 12
SOURCE_IMAGE_ID: NAPP 9090 156
SOURCE_IMAGE_DATE: 1996 07 07
SOURCE_IMAGE_ID: NAPP 9090 135
SOURCE_IMAGE_DATE: 1996 07 07
SOURCE_IMAGE_ID: NAPP 9090 137
SOURCE_IMAGE_DATE: 1996 07 07
SOURCE_DEM_DATE: 1990 00 00
AGENCY: WESTERN MAPPING CENTER (WMC)
PRODUCER: UNDEFINED
PRODUCTION_SYSTEM: GIS/MAGIC
COMPRESSION: UNDEFINED
STANDARD_VERSION: 1996 12
METADATA_DATE: 1999 06 14
DATA_FILE_SIZE: 42818391
BYTE_COUNT: 5617
