FILENAME: O4510625.SES.1010375.tif
QUADRANGLE_NAME: BUSBY
QUADRANT: SE
WEST_LONGITUDE: -106 56 15.00000
EAST_LONGITUDE: -106 52 30.00000
NORTH_LATITUDE: 45 33 45.00000
SOUTH_LATITUDE: 45 30 0.00000
PRODUCTION_DATE: 1999 6 7
RASTER_ORDER: LEFT_RIGHT/TOP_BOTTOM
BAND_ORGANIZATION: SINGLE FILE
BAND_CONTENT: BLACK&WHITE
BAND_CONTENT: UNDEFINED
BAND_CONTENT: UNDEFINED
BITS_PER_PIXEL: 8
SAMPLES_AND_LINES: 5695 7663
HORIZONTAL_DATUM: NAD83
HORIZONTAL_COORDINATE_SYSTEM: UTM
COORDINATE_ZONE: 13
HORIZONTAL_UNITS: METERS
HORIZONTAL_RESOLUTION: 1.00000
SECONDARY_HORIZONTAL_DATUM: NAD27
XY_ORIGIN: 348281.00000 5047566.00000
SECONDARY_XY_ORIGIN: 348323.75300 5047349.03600
NATION: US
NATION: "SCIENCE
STATE: MT
NW_QUAD_CORNER_XY: 348797.41200 5047265.84600
NE_QUAD_CORNER_XY: 353674.88200 5047149.93600
SE_QUAD_CORNERY_XY: 353512.66700 5040206.39400
SW_QUAD_CORNER_XY: 348629.78600 5040322.30800
SECONDARY_NW_QUAD_XY: 348792.89300 5047048.24400
SECONDARY_NE_QUAD_XY: 353670.50900 5046932.33100
SECONDARY_SE_QUAD_XY: 353508.29600 5039988.83600
SECONDARY_SW_QUAD_XY: 348625.26800 5040104.75400
RMSE_XY: 3.40000
IMAGE_SOURCE: BLACK AND WHITE FILM
SOURCE_IMAGE_ID: NAPP 9085 171
SOURCE_IMAGE_DATE: 1996 06 13
SOURCE_IMAGE_ID: NAPP 9085 172
SOURCE_IMAGE_DATE: 1996 06 13
SOURCE_IMAGE_ID: NAPP 9085 170
SOURCE_IMAGE_DATE: 1996 06 13
SOURCE_IMAGE_ID: NAPP 9115 032
SOURCE_IMAGE_DATE: 1996 09 10
SOURCE_IMAGE_ID: NAPP 9115 033
SOURCE_IMAGE_DATE: 1996 09 10
SOURCE_DEM_DATE: 1987 00 00
AGENCY: WESTERN MAPPING CENTER (WMC)
PRODUCER: UNDEFINED
PRODUCTION_SYSTEM: GIS/MAGIC
COMPRESSION: UNDEFINED
STANDARD_VERSION: 1996 12
METADATA_DATE: 1999 06 14
DATA_FILE_SIZE: 43646480
BYTE_COUNT: 5695
