FILENAME: O4510626.SES.1010391.tif
QUADRANGLE_NAME: PAINTED HILL
QUADRANT: SE
WEST_LONGITUDE: -106 48 45.00000
EAST_LONGITUDE: -106 45 0.00000
NORTH_LATITUDE: 45 33 45.00000
SOUTH_LATITUDE: 45 30 0.00000
PRODUCTION_DATE: 1999 6 7
RASTER_ORDER: LEFT_RIGHT/TOP_BOTTOM
BAND_ORGANIZATION: SINGLE FILE
BAND_CONTENT: BLACK&WHITE
BAND_CONTENT: UNDEFINED
BAND_CONTENT: UNDEFINED
BITS_PER_PIXEL: 8
SAMPLES_AND_LINES: 5684 7655
HORIZONTAL_DATUM: NAD83
HORIZONTAL_COORDINATE_SYSTEM: UTM
COORDINATE_ZONE: 13
HORIZONTAL_UNITS: METERS
HORIZONTAL_RESOLUTION: 1.00000
SECONDARY_HORIZONTAL_DATUM: NAD27
XY_ORIGIN: 358047.00000 5047338.00000
SECONDARY_XY_ORIGIN: 358089.48900 5047120.76900
NATION: US
NATION: "SCIENCE
STATE: MT
NW_QUAD_CORNER_XY: 358552.35500 5047037.82900
NE_QUAD_CORNER_XY: 363429.83200 5046929.52500
SE_QUAD_CORNERY_XY: 363278.43900 5039985.97400
SW_QUAD_CORNER_XY: 358395.55200 5040094.28300
SECONDARY_NW_QUAD_XY: 358548.12900 5046820.22000
SECONDARY_NE_QUAD_XY: 363425.75100 5046711.91300
SECONDARY_SE_QUAD_XY: 363274.35800 5039768.41000
SECONDARY_SW_QUAD_XY: 358391.32600 5039876.72200
RMSE_XY: 2.70000
IMAGE_SOURCE: BLACK AND WHITE FILM
SOURCE_IMAGE_ID: NAPP 9115 120
SOURCE_IMAGE_DATE: 1996 09 10
SOURCE_IMAGE_ID: NAPP 9115 032
SOURCE_IMAGE_DATE: 1996 09 10
SOURCE_IMAGE_ID: NAPP 9115 033
SOURCE_IMAGE_DATE: 1996 09 10
SOURCE_IMAGE_ID: NAPP 9115 034
SOURCE_IMAGE_DATE: 1996 09 10
SOURCE_IMAGE_ID: NAPP 9115 078
SOURCE_IMAGE_DATE: 1996 09 10
SOURCE_DEM_DATE: 1987 00 00
AGENCY: WESTERN MAPPING CENTER (WMC)
PRODUCER: UNDEFINED
PRODUCTION_SYSTEM: GIS/MAGIC
COMPRESSION: UNDEFINED
STANDARD_VERSION: 1996 12
METADATA_DATE: 1999 06 14
DATA_FILE_SIZE: 43516704
BYTE_COUNT: 5684
