FILENAME: O4510626.NES.1010389.tif
QUADRANGLE_NAME: PAINTED HILL
QUADRANT: NE
WEST_LONGITUDE: -106 48 45.00000
EAST_LONGITUDE: -106 45 0.00000
NORTH_LATITUDE: 45 37 30.00000
SOUTH_LATITUDE: 45 33 45.00000
PRODUCTION_DATE: 1999 6 7
RASTER_ORDER: LEFT_RIGHT/TOP_BOTTOM
BAND_ORGANIZATION: SINGLE FILE
BAND_CONTENT: BLACK&WHITE
BAND_CONTENT: UNDEFINED
BAND_CONTENT: UNDEFINED
BITS_PER_PIXEL: 8
SAMPLES_AND_LINES: 5679 7655
HORIZONTAL_DATUM: NAD83
HORIZONTAL_COORDINATE_SYSTEM: UTM
COORDINATE_ZONE: 13
HORIZONTAL_UNITS: METERS
HORIZONTAL_RESOLUTION: 1.00000
SECONDARY_HORIZONTAL_DATUM: NAD27
XY_ORIGIN: 358204.00000 5054282.00000
SECONDARY_XY_ORIGIN: 358246.19500 5054064.58000
NATION: US
NATION: "SCIENCE
STATE: MT
NW_QUAD_CORNER_XY: 358709.32900 5053981.44500
NE_QUAD_CORNER_XY: 363581.38900 5053873.14500
SE_QUAD_CORNERY_XY: 363429.83200 5046929.52500
SW_QUAD_CORNER_XY: 358552.35500 5047037.82900
SECONDARY_NW_QUAD_XY: 358705.10100 5053763.78800
SECONDARY_NE_QUAD_XY: 363577.30700 5053655.48600
SECONDARY_SE_QUAD_XY: 363425.75100 5046711.91300
SECONDARY_SW_QUAD_XY: 358548.12900 5046820.22000
RMSE_XY: 1.70000
IMAGE_SOURCE: BLACK AND WHITE FILM
SOURCE_IMAGE_ID: NAPP 9115 122
SOURCE_IMAGE_DATE: 1996 09 10
SOURCE_IMAGE_ID: NAPP 9115 034
SOURCE_IMAGE_DATE: 1996 09 10
SOURCE_IMAGE_ID: NAPP 9115 035
SOURCE_IMAGE_DATE: 1996 09 10
SOURCE_IMAGE_ID: NAPP 9115 036
SOURCE_IMAGE_DATE: 1996 09 10
SOURCE_IMAGE_ID: NAPP 9115 076
SOURCE_IMAGE_DATE: 1996 09 10
SOURCE_DEM_DATE: 1987 00 00
AGENCY: WESTERN MAPPING CENTER (WMC)
PRODUCER: UNDEFINED
PRODUCTION_SYSTEM: GIS/MAGIC
COMPRESSION: UNDEFINED
STANDARD_VERSION: 1996 12
METADATA_DATE: 1999 06 14
DATA_FILE_SIZE: 43478424
BYTE_COUNT: 5679
