FILENAME: O4510627.NES.1010401.tif
QUADRANGLE_NAME: LAME DEER
QUADRANT: NE
WEST_LONGITUDE: -106 41 15.00000
EAST_LONGITUDE: -106 37 30.00000
NORTH_LATITUDE: 45 37 30.00000
SOUTH_LATITUDE: 45 33 45.00000
PRODUCTION_DATE: 1999 6 7
RASTER_ORDER: LEFT_RIGHT/TOP_BOTTOM
BAND_ORGANIZATION: SINGLE FILE
BAND_CONTENT: BLACK&WHITE
BAND_CONTENT: UNDEFINED
BAND_CONTENT: UNDEFINED
BITS_PER_PIXEL: 8
SAMPLES_AND_LINES: 5667 7647
HORIZONTAL_DATUM: NAD83
HORIZONTAL_COORDINATE_SYSTEM: UTM
COORDINATE_ZONE: 13
HORIZONTAL_UNITS: METERS
HORIZONTAL_RESOLUTION: 1.00000
SECONDARY_HORIZONTAL_DATUM: NAD27
XY_ORIGIN: 367960.00000 5054069.00000
SECONDARY_XY_ORIGIN: 368001.95000 5053851.32200
NATION: US
NATION: "SCIENCE
STATE: MT
NW_QUAD_CORNER_XY: 368453.45300 5053768.64800
NE_QUAD_CORNER_XY: 373325.52000 5053667.95300
SE_QUAD_CORNERY_XY: 373184.79500 5046724.32400
SW_QUAD_CORNER_XY: 368307.31200 5046825.02300
SECONDARY_NW_QUAD_XY: 368449.51700 5053550.98500
SECONDARY_NE_QUAD_XY: 373321.73000 5053450.28700
SECONDARY_SE_QUAD_XY: 373181.00500 5046506.70500
SECONDARY_SW_QUAD_XY: 368303.37700 5046607.40800
RMSE_XY: 1.60000
IMAGE_SOURCE: BLACK AND WHITE FILM
SOURCE_IMAGE_ID: NAPP 9122 025
SOURCE_IMAGE_DATE: 1996 09 11
SOURCE_IMAGE_ID: NAPP 9115 121
SOURCE_IMAGE_DATE: 1996 09 10
SOURCE_IMAGE_ID: NAPP 9115 122
SOURCE_IMAGE_DATE: 1996 09 10
SOURCE_IMAGE_ID: NAPP 9115 123
SOURCE_IMAGE_DATE: 1996 09 10
SOURCE_IMAGE_ID: NAPP 9111 046
SOURCE_IMAGE_DATE: 1996 08 11
SOURCE_DEM_DATE: 1987 00 00
AGENCY: WESTERN MAPPING CENTER (WMC)
PRODUCER: UNDEFINED
PRODUCTION_SYSTEM: GIS/MAGIC
COMPRESSION: UNDEFINED
STANDARD_VERSION: 1996 12
METADATA_DATE: 1999 06 14
DATA_FILE_SIZE: 43341216
BYTE_COUNT: 5667
