FILENAME: O4510628.SWS.1010416.tif
QUADRANGLE_NAME: FISHER BUTTE
QUADRANT: SW
WEST_LONGITUDE: -106 37 30.00000
EAST_LONGITUDE: -106 33 45.00000
NORTH_LATITUDE: 45 33 45.00000
SOUTH_LATITUDE: 45 30 0.00000
PRODUCTION_DATE: 1999 6 9
RASTER_ORDER: LEFT_RIGHT/TOP_BOTTOM
BAND_ORGANIZATION: SINGLE FILE
BAND_CONTENT: BLACK&WHITE
BAND_CONTENT: UNDEFINED
BAND_CONTENT: UNDEFINED
BITS_PER_PIXEL: 8
SAMPLES_AND_LINES: 5667 7644
HORIZONTAL_DATUM: NAD83
HORIZONTAL_COORDINATE_SYSTEM: UTM
COORDINATE_ZONE: 13
HORIZONTAL_UNITS: METERS
HORIZONTAL_RESOLUTION: 1.00000
SECONDARY_HORIZONTAL_DATUM: NAD27
XY_ORIGIN: 372697.00000 5047025.00000
SECONDARY_XY_ORIGIN: 372739.08900 5046807.33700
NATION: US
NATION: "SCIENCE
STATE: MT
NW_QUAD_CORNER_XY: 373184.79500 5046724.32400
NE_QUAD_CORNER_XY: 378062.28000 5046627.42600
SE_QUAD_CORNERY_XY: 377927.11500 5039683.86400
SW_QUAD_CORNER_XY: 373044.22100 5039780.76500
SECONDARY_NW_QUAD_XY: 373181.00500 5046506.70500
SECONDARY_NE_QUAD_XY: 378058.63600 5046409.80500
SECONDARY_SE_QUAD_XY: 377923.47300 5039466.29100
SECONDARY_SW_QUAD_XY: 373040.43200 5039563.19500
RMSE_XY: 2.40000
IMAGE_SOURCE: BLACK AND WHITE FILM
SOURCE_IMAGE_ID: NAPP 9122 023
SOURCE_IMAGE_DATE: 1996 09 11
SOURCE_IMAGE_ID: NAPP 9111 045
SOURCE_IMAGE_DATE: 1996 08 11
SOURCE_IMAGE_ID: NAPP 9111 003
SOURCE_IMAGE_DATE: 1996 08 11
SOURCE_IMAGE_ID: NAPP 9122 024
SOURCE_IMAGE_DATE: 1996 09 11
SOURCE_DEM_DATE: 1987 00 00
AGENCY: WESTERN MAPPING CENTER (WMC)
PRODUCER: UNDEFINED
PRODUCTION_SYSTEM: GIS/MAGIC
COMPRESSION: UNDEFINED
STANDARD_VERSION: 1996 12
METADATA_DATE: 1999 06 14
DATA_FILE_SIZE: 43324215
BYTE_COUNT: 5667
