FILENAME: O4510628.NWS.1010414.tif
QUADRANGLE_NAME: FISHER BUTTE
QUADRANT: NW
WEST_LONGITUDE: -106 37 30.00000
EAST_LONGITUDE: -106 33 45.00000
NORTH_LATITUDE: 45 37 30.00000
SOUTH_LATITUDE: 45 33 45.00000
PRODUCTION_DATE: 1999 6 9
RASTER_ORDER: LEFT_RIGHT/TOP_BOTTOM
BAND_ORGANIZATION: SINGLE FILE
BAND_CONTENT: BLACK&WHITE
BAND_CONTENT: UNDEFINED
BAND_CONTENT: UNDEFINED
BITS_PER_PIXEL: 8
SAMPLES_AND_LINES: 5662 7644
HORIZONTAL_DATUM: NAD83
HORIZONTAL_COORDINATE_SYSTEM: UTM
COORDINATE_ZONE: 13
HORIZONTAL_UNITS: METERS
HORIZONTAL_RESOLUTION: 1.00000
SECONDARY_HORIZONTAL_DATUM: NAD27
XY_ORIGIN: 372837.00000 5053969.00000
SECONDARY_XY_ORIGIN: 372878.82300 5053751.18200
NATION: US
NATION: "SCIENCE
STATE: MT
NW_QUAD_CORNER_XY: 373325.52000 5053667.95300
NE_QUAD_CORNER_XY: 378197.59000 5053571.05900
SE_QUAD_CORNERY_XY: 378062.28000 5046627.42600
SW_QUAD_CORNER_XY: 373184.79500 5046724.32400
SECONDARY_NW_QUAD_XY: 373321.73000 5053450.28700
SECONDARY_NE_QUAD_XY: 378193.94600 5053353.39000
SECONDARY_SE_QUAD_XY: 378058.63600 5046409.80500
SECONDARY_SW_QUAD_XY: 373181.00500 5046506.70500
RMSE_XY: 1.80000
IMAGE_SOURCE: BLACK AND WHITE FILM
SOURCE_IMAGE_ID: NAPP 9122 028
SOURCE_IMAGE_DATE: 1996 09 11
SOURCE_IMAGE_ID: NAPP 9111 046
SOURCE_IMAGE_DATE: 1996 08 11
SOURCE_IMAGE_ID: NAPP 9111 048
SOURCE_IMAGE_DATE: 1996 08 11
SOURCE_IMAGE_ID: NAPP 9122 024
SOURCE_IMAGE_DATE: 1996 09 11
SOURCE_IMAGE_ID: NAPP 9122 026
SOURCE_IMAGE_DATE: 1996 09 11
SOURCE_DEM_DATE: 1987 00 00
AGENCY: WESTERN MAPPING CENTER (WMC)
PRODUCER: UNDEFINED
PRODUCTION_SYSTEM: GIS/MAGIC
COMPRESSION: UNDEFINED
STANDARD_VERSION: 1996 12
METADATA_DATE: 1999 06 14
DATA_FILE_SIZE: 43285990
BYTE_COUNT: 5662
