FILENAME: O4510628.NES.1010413.tif
QUADRANGLE_NAME: FISHER BUTTE
QUADRANT: NE
WEST_LONGITUDE: -106 33 45.00000
EAST_LONGITUDE: -106 30 0.00000
NORTH_LATITUDE: 45 37 30.00000
SOUTH_LATITUDE: 45 33 45.00000
PRODUCTION_DATE: 1999 6 9
RASTER_ORDER: LEFT_RIGHT/TOP_BOTTOM
BAND_ORGANIZATION: SINGLE FILE
BAND_CONTENT: BLACK&WHITE
BAND_CONTENT: UNDEFINED
BAND_CONTENT: UNDEFINED
BITS_PER_PIXEL: 8
SAMPLES_AND_LINES: 5656 7640
HORIZONTAL_DATUM: NAD83
HORIZONTAL_COORDINATE_SYSTEM: UTM
COORDINATE_ZONE: 13
HORIZONTAL_UNITS: METERS
HORIZONTAL_RESOLUTION: 1.00000
SECONDARY_HORIZONTAL_DATUM: NAD27
XY_ORIGIN: 377715.00000 5053872.00000
SECONDARY_XY_ORIGIN: 377756.69600 5053654.04300
NATION: US
NATION: "SCIENCE
STATE: MT
NW_QUAD_CORNER_XY: 378197.59000 5053571.05900
NE_QUAD_CORNER_XY: 383069.66400 5053477.96700
SE_QUAD_CORNERY_XY: 382939.76800 5046534.33000
SW_QUAD_CORNER_XY: 378062.28000 5046627.42600
SECONDARY_NW_QUAD_XY: 378193.94600 5053353.39000
SECONDARY_NE_QUAD_XY: 383066.16500 5053260.29600
SECONDARY_SE_QUAD_XY: 382936.27000 5046316.70600
SECONDARY_SW_QUAD_XY: 378058.63600 5046409.80500
RMSE_XY: 2.00000
IMAGE_SOURCE: BLACK AND WHITE FILM
SOURCE_IMAGE_ID: NAPP 9115 165
SOURCE_IMAGE_DATE: 1996 09 10
SOURCE_IMAGE_ID: NAPP 9122 024
SOURCE_IMAGE_DATE: 1996 09 11
SOURCE_IMAGE_ID: NAPP 9122 026
SOURCE_IMAGE_DATE: 1996 09 11
SOURCE_IMAGE_ID: NAPP 9122 029
SOURCE_IMAGE_DATE: 1996 09 11
SOURCE_IMAGE_ID: NAPP 9122 027
SOURCE_IMAGE_DATE: 1996 09 11
SOURCE_DEM_DATE: 1987 00 00
AGENCY: WESTERN MAPPING CENTER (WMC)
PRODUCER: UNDEFINED
PRODUCTION_SYSTEM: GIS/MAGIC
COMPRESSION: UNDEFINED
STANDARD_VERSION: 1996 12
METADATA_DATE: 1999 06 14
DATA_FILE_SIZE: 43217496
BYTE_COUNT: 5656
