FILENAME: O4510629.SES.1010450.tif
QUADRANGLE_NAME: HOLLOWWOOD CREEK
QUADRANT: SE
WEST_LONGITUDE: -106 26 15.00000
EAST_LONGITUDE: -106 22 30.00000
NORTH_LATITUDE: 45 33 45.00000
SOUTH_LATITUDE: 45 30 0.00000
PRODUCTION_DATE: 1999 6 9
RASTER_ORDER: LEFT_RIGHT/TOP_BOTTOM
BAND_ORGANIZATION: SINGLE FILE
BAND_CONTENT: BLACK&WHITE
BAND_CONTENT: UNDEFINED
BAND_CONTENT: UNDEFINED
BITS_PER_PIXEL: 8
SAMPLES_AND_LINES: 5650 7633
HORIZONTAL_DATUM: NAD83
HORIZONTAL_COORDINATE_SYSTEM: UTM
COORDINATE_ZONE: 13
HORIZONTAL_UNITS: METERS
HORIZONTAL_RESOLUTION: 1.00000
SECONDARY_HORIZONTAL_DATUM: NAD27
XY_ORIGIN: 387346.00000 5046746.00000
SECONDARY_XY_ORIGIN: 387387.76100 5046527.94400
NATION: US
NATION: "SCIENCE
STATE: MT
NW_QUAD_CORNER_XY: 387817.25900 5046445.03600
NE_QUAD_CORNER_XY: 392694.75200 5046359.54300
SE_QUAD_CORNERY_XY: 392575.81300 5039415.97000
SW_QUAD_CORNER_XY: 387692.91200 5039501.46700
SECONDARY_NW_QUAD_XY: 387813.90600 5046227.40900
SECONDARY_NE_QUAD_XY: 392691.54500 5046141.91300
SECONDARY_SE_QUAD_XY: 392572.60800 5039198.38900
SECONDARY_SW_QUAD_XY: 387689.56000 5039283.88800
RMSE_XY: 3.00000
IMAGE_SOURCE: BLACK AND WHITE FILM
SOURCE_IMAGE_ID: NAPP 9106 226
SOURCE_IMAGE_DATE: 1996 08 07
SOURCE_IMAGE_ID: NAPP 9115 168
SOURCE_IMAGE_DATE: 1996 09 10
SOURCE_IMAGE_ID: NAPP 9115 166
SOURCE_IMAGE_DATE: 1996 09 10
SOURCE_IMAGE_ID: NAPP 9106 227
SOURCE_IMAGE_DATE: 1996 08 07
SOURCE_DEM_DATE: 1987 00 00
AGENCY: WESTERN MAPPING CENTER (WMC)
PRODUCER: UNDEFINED
PRODUCTION_SYSTEM: GIS/MAGIC
COMPRESSION: UNDEFINED
STANDARD_VERSION: 1996 12
METADATA_DATE: 1999 06 14
DATA_FILE_SIZE: 43132100
BYTE_COUNT: 5650
