FILENAME: O4510630.SES.1010458.tif
QUADRANGLE_NAME: ASHLAND
QUADRANT: SE
WEST_LONGITUDE: -106 18 45.00000
EAST_LONGITUDE: -106 15 0.00000
NORTH_LATITUDE: 45 33 45.00000
SOUTH_LATITUDE: 45 30 0.00000
PRODUCTION_DATE: 1999 6 9
RASTER_ORDER: LEFT_RIGHT/TOP_BOTTOM
BAND_ORGANIZATION: SINGLE FILE
BAND_CONTENT: BLACK&WHITE
BAND_CONTENT: UNDEFINED
BAND_CONTENT: UNDEFINED
BITS_PER_PIXEL: 8
SAMPLES_AND_LINES: 5639 7625
HORIZONTAL_DATUM: NAD83
HORIZONTAL_COORDINATE_SYSTEM: UTM
COORDINATE_ZONE: 13
HORIZONTAL_UNITS: METERS
HORIZONTAL_RESOLUTION: 1.00000
SECONDARY_HORIZONTAL_DATUM: NAD27
XY_ORIGIN: 397112.00000 5046579.00000
SECONDARY_XY_ORIGIN: 397153.63500 5046360.76900
NATION: US
NATION: "SCIENCE
STATE: MT
NW_QUAD_CORNER_XY: 397572.24700 5046277.85000
NE_QUAD_CORNER_XY: 402449.74500 5046199.95900
SE_QUAD_CORNERY_XY: 402341.62300 5039256.38100
SW_QUAD_CORNER_XY: 397458.71700 5039334.27500
SECONDARY_NW_QUAD_XY: 397569.18600 5046060.21900
SECONDARY_NE_QUAD_XY: 402446.83000 5045982.32500
SECONDARY_SE_QUAD_XY: 402338.70800 5039038.79500
SECONDARY_SW_QUAD_XY: 397455.65700 5039116.69200
RMSE_XY: 3.00000
IMAGE_SOURCE: BLACK AND WHITE FILM
SOURCE_IMAGE_ID: NAPP 9090 161
SOURCE_IMAGE_DATE: 1996 07 07
SOURCE_IMAGE_ID: NAPP 9102 089
SOURCE_IMAGE_DATE: 1996 07 14
SOURCE_IMAGE_ID: NAPP 9097 020
SOURCE_IMAGE_DATE: 1996 07 12
SOURCE_IMAGE_ID: NAPP 9097 021
SOURCE_IMAGE_DATE: 1996 07 12
SOURCE_IMAGE_ID: NAPP 10722 021
SOURCE_IMAGE_DATE: 1997 08 25
SOURCE_DEM_DATE: 1987 00 00
AGENCY: WESTERN MAPPING CENTER (WMC)
PRODUCER: UNDEFINED
PRODUCTION_SYSTEM: GIS/MAGIC
COMPRESSION: UNDEFINED
STANDARD_VERSION: 1996 12
METADATA_DATE: 1999 06 14
DATA_FILE_SIZE: 43003014
BYTE_COUNT: 5639
