FILENAME: O4510631.SWS.1010467.tif
QUADRANGLE_NAME: WILLOW CROSSING
QUADRANT: SW
WEST_LONGITUDE: -106 15 0.00000
EAST_LONGITUDE: -106 11 15.00000
NORTH_LATITUDE: 45 33 45.00000
SOUTH_LATITUDE: 45 30 0.00000
PRODUCTION_DATE: 1999 6 9
RASTER_ORDER: LEFT_RIGHT/TOP_BOTTOM
BAND_ORGANIZATION: SINGLE FILE
BAND_CONTENT: BLACK&WHITE
BAND_CONTENT: UNDEFINED
BAND_CONTENT: UNDEFINED
BITS_PER_PIXEL: 8
SAMPLES_AND_LINES: 5634 7621
HORIZONTAL_DATUM: NAD83
HORIZONTAL_COORDINATE_SYSTEM: UTM
COORDINATE_ZONE: 13
HORIZONTAL_UNITS: METERS
HORIZONTAL_RESOLUTION: 1.00000
SECONDARY_HORIZONTAL_DATUM: NAD27
XY_ORIGIN: 401995.00000 5046501.00000
SECONDARY_XY_ORIGIN: 402036.58000 5046282.66200
NATION: US
NATION: "SCIENCE
STATE: MT
NW_QUAD_CORNER_XY: 402449.74500 5046199.95900
NE_QUAD_CORNER_XY: 407327.24400 5046125.86900
SE_QUAD_CORNERY_XY: 407224.53000 5039182.28800
SW_QUAD_CORNER_XY: 402341.62300 5039256.38100
SECONDARY_NW_QUAD_XY: 402446.83000 5045982.32500
SECONDARY_NE_QUAD_XY: 407324.47500 5045908.23300
SECONDARY_SE_QUAD_XY: 407221.76100 5038964.70000
SECONDARY_SW_QUAD_XY: 402338.70800 5039038.79500
RMSE_XY: 2.40000
IMAGE_SOURCE: BLACK AND WHITE FILM
SOURCE_IMAGE_ID: NAPP 9090 161
SOURCE_IMAGE_DATE: 1996 07 07
SOURCE_IMAGE_ID: NAPP 9090 163
SOURCE_IMAGE_DATE: 1996 07 07
SOURCE_DEM_DATE: 1962 00 00
AGENCY: WESTERN MAPPING CENTER (WMC)
PRODUCER: UNDEFINED
PRODUCTION_SYSTEM: GIS/MAGIC
COMPRESSION: UNDEFINED
STANDARD_VERSION: 1996 12
METADATA_DATE: 1999 06 14
DATA_FILE_SIZE: 42942348
BYTE_COUNT: 5634
