FILENAME: O4510631.NWS.1010465.tif
QUADRANGLE_NAME: WILLOW CROSSING
QUADRANT: NW
WEST_LONGITUDE: -106 15 0.00000
EAST_LONGITUDE: -106 11 15.00000
NORTH_LATITUDE: 45 37 30.00000
SOUTH_LATITUDE: 45 33 45.00000
PRODUCTION_DATE: 1999 6 9
RASTER_ORDER: LEFT_RIGHT/TOP_BOTTOM
BAND_ORGANIZATION: SINGLE FILE
BAND_CONTENT: BLACK&WHITE
BAND_CONTENT: UNDEFINED
BAND_CONTENT: UNDEFINED
BITS_PER_PIXEL: 8
SAMPLES_AND_LINES: 5628 7622
HORIZONTAL_DATUM: NAD83
HORIZONTAL_COORDINATE_SYSTEM: UTM
COORDINATE_ZONE: 13
HORIZONTAL_UNITS: METERS
HORIZONTAL_RESOLUTION: 1.00000
SECONDARY_HORIZONTAL_DATUM: NAD27
XY_ORIGIN: 402104.00000 5053445.00000
SECONDARY_XY_ORIGIN: 402145.37300 5053226.53400
NATION: US
NATION: "SCIENCE
STATE: MT
NW_QUAD_CORNER_XY: 402557.98400 5053143.61000
NE_QUAD_CORNER_XY: 407430.07000 5053069.52300
SE_QUAD_CORNERY_XY: 407327.24400 5046125.86900
SW_QUAD_CORNER_XY: 402449.74500 5046199.95900
SECONDARY_NW_QUAD_XY: 402555.06800 5052925.92900
SECONDARY_NE_QUAD_XY: 407427.30000 5052851.83900
SECONDARY_SE_QUAD_XY: 407324.47500 5045908.23300
SECONDARY_SW_QUAD_XY: 402446.83000 5045982.32500
RMSE_XY: 1.00000
IMAGE_SOURCE: BLACK AND WHITE FILM
SOURCE_IMAGE_ID: NAPP 9090 159
SOURCE_IMAGE_DATE: 1996 07 07
SOURCE_IMAGE_ID: NAPP 10722 022
SOURCE_IMAGE_DATE: 1997 08 25
SOURCE_DEM_DATE: 1962 00 00
AGENCY: WESTERN MAPPING CENTER (WMC)
PRODUCER: UNDEFINED
PRODUCTION_SYSTEM: GIS/MAGIC
COMPRESSION: UNDEFINED
STANDARD_VERSION: 1996 12
METADATA_DATE: 1999 06 14
DATA_FILE_SIZE: 42902244
BYTE_COUNT: 5628
