FILENAME: O4510633.SWS.1010674.tif
QUADRANGLE_NAME: BIRDSEYE SPRING
QUADRANT: SW
WEST_LONGITUDE: -107 0 0.00000
EAST_LONGITUDE: -106 56 15.00000
NORTH_LATITUDE: 45 26 15.00000
SOUTH_LATITUDE: 45 22 30.00000
PRODUCTION_DATE: 1999 6 8
RASTER_ORDER: LEFT_RIGHT/TOP_BOTTOM
BAND_ORGANIZATION: SINGLE FILE
BAND_CONTENT: BLACK&WHITE
BAND_CONTENT: UNDEFINED
BAND_CONTENT: UNDEFINED
BITS_PER_PIXEL: 8
SAMPLES_AND_LINES: 5713 7667
HORIZONTAL_DATUM: NAD83
HORIZONTAL_COORDINATE_SYSTEM: UTM
COORDINATE_ZONE: 13
HORIZONTAL_UNITS: METERS
HORIZONTAL_RESOLUTION: 1.00000
SECONDARY_HORIZONTAL_DATUM: NAD27
XY_ORIGIN: 343051.00000 5033799.00000
SECONDARY_XY_ORIGIN: 343094.56200 5033582.62300
NATION: US
NATION: "SCIENCE
STATE: MT
NW_QUAD_CORNER_XY: 343574.05700 5033498.55900
NE_QUAD_CORNER_XY: 348462.34100 5033378.83700
SE_QUAD_CORNERY_XY: 348295.07800 5026435.43500
SW_QUAD_CORNER_XY: 343401.39400 5026555.15900
SECONDARY_NW_QUAD_XY: 343569.39500 5033281.05800
SECONDARY_NE_QUAD_XY: 348457.82500 5033161.33300
SECONDARY_SE_QUAD_XY: 348290.56300 5026217.98000
SECONDARY_SW_QUAD_XY: 343396.73300 5026337.70800
RMSE_XY: 1.80000
IMAGE_SOURCE: BLACK AND WHITE FILM
SOURCE_IMAGE_ID: NAPP 9099 027
SOURCE_IMAGE_DATE: 1996 07 14
SOURCE_IMAGE_ID: NAPP 9122 016
SOURCE_IMAGE_DATE: 1996 09 11
SOURCE_IMAGE_ID: NAPP 9099 026
SOURCE_IMAGE_DATE: 1996 07 14
SOURCE_IMAGE_ID: NAPP 9099 028
SOURCE_IMAGE_DATE: 1996 07 14
SOURCE_DEM_DATE: 1987 00 00
AGENCY: WESTERN MAPPING CENTER (WMC)
PRODUCER: UNDEFINED
PRODUCTION_SYSTEM: GIS/MAGIC
COMPRESSION: UNDEFINED
STANDARD_VERSION: 1996 12
METADATA_DATE: 1999 06 09
DATA_FILE_SIZE: 43807284
BYTE_COUNT: 5713
