FILENAME: O4510633.NWS.1010672.tif
QUADRANGLE_NAME: BIRDSEYE SPRING
QUADRANT: NW
WEST_LONGITUDE: -107 0 0.00000
EAST_LONGITUDE: -106 56 15.00000
NORTH_LATITUDE: 45 30 0.00000
SOUTH_LATITUDE: 45 26 15.00000
PRODUCTION_DATE: 1999 6 7
RASTER_ORDER: LEFT_RIGHT/TOP_BOTTOM
BAND_ORGANIZATION: SINGLE FILE
BAND_CONTENT: BLACK&WHITE
BAND_CONTENT: UNDEFINED
BAND_CONTENT: UNDEFINED
BITS_PER_PIXEL: 8
SAMPLES_AND_LINES: 5707 7668
HORIZONTAL_DATUM: NAD83
HORIZONTAL_COORDINATE_SYSTEM: UTM
COORDINATE_ZONE: 13
HORIZONTAL_UNITS: METERS
HORIZONTAL_RESOLUTION: 1.00000
SECONDARY_HORIZONTAL_DATUM: NAD27
XY_ORIGIN: 343224.00000 5040743.00000
SECONDARY_XY_ORIGIN: 343267.22800 5040526.39900
NATION: US
NATION: "SCIENCE
STATE: MT
NW_QUAD_CORNER_XY: 343746.90700 5040442.02500
NE_QUAD_CORNER_XY: 348629.78600 5040322.30800
SE_QUAD_CORNERY_XY: 348462.34100 5033378.83700
SW_QUAD_CORNER_XY: 343574.05700 5033498.55900
SECONDARY_NW_QUAD_XY: 343742.24400 5040224.47500
SECONDARY_NE_QUAD_XY: 348625.26800 5040104.75400
SECONDARY_SE_QUAD_XY: 348457.82500 5033161.33300
SECONDARY_SW_QUAD_XY: 343569.39500 5033281.05800
RMSE_XY: 2.40000
IMAGE_SOURCE: BLACK AND WHITE FILM
SOURCE_IMAGE_ID: NAPP 9099 029
SOURCE_IMAGE_DATE: 1996 07 14
SOURCE_IMAGE_ID: NAPP 9099 028
SOURCE_IMAGE_DATE: 1996 07 14
SOURCE_IMAGE_ID: NAPP 9099 030
SOURCE_IMAGE_DATE: 1996 07 14
SOURCE_IMAGE_ID: NAPP 9085 172
SOURCE_IMAGE_DATE: 1996 06 13
SOURCE_DEM_DATE: 1987 00 00
AGENCY: WESTERN MAPPING CENTER (WMC)
PRODUCER: UNDEFINED
PRODUCTION_SYSTEM: GIS/MAGIC
COMPRESSION: UNDEFINED
STANDARD_VERSION: 1996 12
METADATA_DATE: 1999 06 09
DATA_FILE_SIZE: 43766983
BYTE_COUNT: 5707
