FILENAME: O4510634.NWS.1010692.tif
QUADRANGLE_NAME: BULL CREEK LOOKOUT
QUADRANT: NW
WEST_LONGITUDE: -106 52 30.00000
EAST_LONGITUDE: -106 48 45.00000
NORTH_LATITUDE: 45 30 0.00000
SOUTH_LATITUDE: 45 26 15.00000
PRODUCTION_DATE: 1999 6 8
RASTER_ORDER: LEFT_RIGHT/TOP_BOTTOM
BAND_ORGANIZATION: SINGLE FILE
BAND_CONTENT: BLACK&WHITE
BAND_CONTENT: UNDEFINED
BAND_CONTENT: UNDEFINED
BITS_PER_PIXEL: 8
SAMPLES_AND_LINES: 5695 7659
HORIZONTAL_DATUM: NAD83
HORIZONTAL_COORDINATE_SYSTEM: UTM
COORDINATE_ZONE: 13
HORIZONTAL_UNITS: METERS
HORIZONTAL_RESOLUTION: 1.00000
SECONDARY_HORIZONTAL_DATUM: NAD27
XY_ORIGIN: 353002.00000 5040507.00000
SECONDARY_XY_ORIGIN: 353044.92600 5040290.10200
NATION: US
NATION: "SCIENCE
STATE: MT
NW_QUAD_CORNER_XY: 353512.66700 5040206.39400
NE_QUAD_CORNER_XY: 358395.55200 5040094.28300
SE_QUAD_CORNERY_XY: 358238.91700 5033150.80500
SW_QUAD_CORNER_XY: 353350.62800 5033262.91900
SECONDARY_NW_QUAD_XY: 353508.29600 5039988.83600
SECONDARY_NE_QUAD_XY: 358391.32600 5039876.72200
SECONDARY_SE_QUAD_XY: 358234.69200 5032933.29300
SECONDARY_SW_QUAD_XY: 353346.25700 5033045.41100
RMSE_XY: 2.50000
IMAGE_SOURCE: BLACK AND WHITE FILM
SOURCE_IMAGE_ID: NAPP 9115 031
SOURCE_IMAGE_DATE: 1996 09 10
SOURCE_IMAGE_ID: NAPP 9085 173
SOURCE_IMAGE_DATE: 1996 06 13
SOURCE_IMAGE_ID: NAPP 9115 032
SOURCE_IMAGE_DATE: 1996 09 10
SOURCE_DEM_DATE: 1987 00 00
AGENCY: WESTERN MAPPING CENTER (WMC)
PRODUCER: UNDEFINED
PRODUCTION_SYSTEM: GIS/MAGIC
COMPRESSION: UNDEFINED
STANDARD_VERSION: 1996 12
METADATA_DATE: 1999 06 09
DATA_FILE_SIZE: 43623700
BYTE_COUNT: 5695
