FILENAME: O4510637.NWS.1010712.tif
QUADRANGLE_NAME: BIRNEY DAY SCHOOL
QUADRANT: NW
WEST_LONGITUDE: -106 30 0.00000
EAST_LONGITUDE: -106 26 15.00000
NORTH_LATITUDE: 45 30 0.00000
SOUTH_LATITUDE: 45 26 15.00000
PRODUCTION_DATE: 1999 6 7
RASTER_ORDER: LEFT_RIGHT/TOP_BOTTOM
BAND_ORGANIZATION: SINGLE FILE
BAND_CONTENT: BLACK&WHITE
BAND_CONTENT: UNDEFINED
BAND_CONTENT: UNDEFINED
BITS_PER_PIXEL: 8
SAMPLES_AND_LINES: 5661 7637
HORIZONTAL_DATUM: NAD83
HORIZONTAL_COORDINATE_SYSTEM: UTM
COORDINATE_ZONE: 13
HORIZONTAL_UNITS: METERS
HORIZONTAL_RESOLUTION: 1.00000
SECONDARY_HORIZONTAL_DATUM: NAD27
XY_ORIGIN: 382333.00000 5039892.00000
SECONDARY_XY_ORIGIN: 382375.08500 5039674.16600
NATION: US
NATION: "SCIENCE
STATE: MT
NW_QUAD_CORNER_XY: 382810.01300 5039590.76400
NE_QUAD_CORNER_XY: 387692.91200 5039501.46700
SE_QUAD_CORNERY_XY: 387568.70000 5032557.96900
SW_QUAD_CORNER_XY: 382680.39700 5032647.27000
SECONDARY_NW_QUAD_XY: 382806.51500 5039373.18900
SECONDARY_NE_QUAD_XY: 387689.56000 5039283.88800
SECONDARY_SE_QUAD_XY: 387565.34900 5032340.44000
SECONDARY_SW_QUAD_XY: 382676.90100 5032429.74300
RMSE_XY: 3.20000
IMAGE_SOURCE: BLACK AND WHITE FILM
SOURCE_IMAGE_ID: NAPP 9115 169
SOURCE_IMAGE_DATE: 1996 09 10
SOURCE_IMAGE_ID: NAPP 9115 170
SOURCE_IMAGE_DATE: 1996 09 10
SOURCE_IMAGE_ID: NAPP 9115 168
SOURCE_IMAGE_DATE: 1996 09 10
SOURCE_DEM_DATE: 1987 00 00
AGENCY: WESTERN MAPPING CENTER (WMC)
PRODUCER: UNDEFINED
PRODUCTION_SYSTEM: GIS/MAGIC
COMPRESSION: UNDEFINED
STANDARD_VERSION: 1996 12
METADATA_DATE: 1999 06 09
DATA_FILE_SIZE: 43238718
BYTE_COUNT: 5661
