FILENAME: O4510638.SWS.1010727.tif
QUADRANGLE_NAME: GREEN CREEK
QUADRANT: SW
WEST_LONGITUDE: -106 22 30.00000
EAST_LONGITUDE: -106 18 45.00000
NORTH_LATITUDE: 45 26 15.00000
SOUTH_LATITUDE: 45 22 30.00000
PRODUCTION_DATE: 1999 6 7
RASTER_ORDER: LEFT_RIGHT/TOP_BOTTOM
BAND_ORGANIZATION: SINGLE FILE
BAND_CONTENT: BLACK&WHITE
BAND_CONTENT: UNDEFINED
BAND_CONTENT: UNDEFINED
BITS_PER_PIXEL: 8
SAMPLES_AND_LINES: 5656 7628
HORIZONTAL_DATUM: NAD83
HORIZONTAL_COORDINATE_SYSTEM: UTM
COORDINATE_ZONE: 13
HORIZONTAL_UNITS: METERS
HORIZONTAL_RESOLUTION: 1.00000
SECONDARY_HORIZONTAL_DATUM: NAD27
XY_ORIGIN: 391991.00000 5032773.00000
SECONDARY_XY_ORIGIN: 392033.17700 5032555.17100
NATION: US
NATION: "SCIENCE
STATE: MT
NW_QUAD_CORNER_XY: 392457.00400 5032472.47000
NE_QUAD_CORNER_XY: 397345.31000 5032390.77200
SE_QUAD_CORNERY_XY: 397232.02500 5025447.34100
SW_QUAD_CORNER_XY: 392338.32300 5025529.04200
SECONDARY_NW_QUAD_XY: 392453.79900 5032254.93800
SECONDARY_NE_QUAD_XY: 397342.25100 5032173.23800
SECONDARY_SE_QUAD_XY: 397228.96700 5025229.85700
SECONDARY_SW_QUAD_XY: 392335.11900 5025311.56000
RMSE_XY: 2.00000
IMAGE_SOURCE: BLACK AND WHITE FILM
SOURCE_IMAGE_ID: NAPP 9102 092
SOURCE_IMAGE_DATE: 1996 07 14
SOURCE_IMAGE_ID: NAPP 9106 221
SOURCE_IMAGE_DATE: 1996 08 07
SOURCE_IMAGE_ID: NAPP 9106 223
SOURCE_IMAGE_DATE: 1996 08 07
SOURCE_IMAGE_ID: NAPP 9102 093
SOURCE_IMAGE_DATE: 1996 07 14
SOURCE_IMAGE_ID: NAPP 9102 091
SOURCE_IMAGE_DATE: 1996 07 14
SOURCE_DEM_DATE: 1987 00 00
AGENCY: WESTERN MAPPING CENTER (WMC)
PRODUCER: UNDEFINED
PRODUCTION_SYSTEM: GIS/MAGIC
COMPRESSION: UNDEFINED
STANDARD_VERSION: 1996 12
METADATA_DATE: 1999 06 09
DATA_FILE_SIZE: 43149624
BYTE_COUNT: 5656
