FILENAME: O4510638.SES.1010726.tif
QUADRANGLE_NAME: GREEN CREEK
QUADRANT: SE
WEST_LONGITUDE: -106 18 45.00000
EAST_LONGITUDE: -106 15 0.00000
NORTH_LATITUDE: 45 26 15.00000
SOUTH_LATITUDE: 45 22 30.00000
PRODUCTION_DATE: 1999 6 7
RASTER_ORDER: LEFT_RIGHT/TOP_BOTTOM
BAND_ORGANIZATION: SINGLE FILE
BAND_CONTENT: BLACK&WHITE
BAND_CONTENT: UNDEFINED
BAND_CONTENT: UNDEFINED
BITS_PER_PIXEL: 8
SAMPLES_AND_LINES: 5650 7625
HORIZONTAL_DATUM: NAD83
HORIZONTAL_COORDINATE_SYSTEM: UTM
COORDINATE_ZONE: 13
HORIZONTAL_UNITS: METERS
HORIZONTAL_RESOLUTION: 1.00000
SECONDARY_HORIZONTAL_DATUM: NAD27
XY_ORIGIN: 396885.00000 5032692.00000
SECONDARY_XY_ORIGIN: 396927.08100 5032474.07400
NATION: US
NATION: "SCIENCE
STATE: MT
NW_QUAD_CORNER_XY: 397345.31000 5032390.77200
NE_QUAD_CORNER_XY: 402233.61700 5032312.87600
SE_QUAD_CORNERY_XY: 402125.72900 5025369.44300
SW_QUAD_CORNER_XY: 397232.02500 5025447.34100
SECONDARY_NW_QUAD_XY: 397342.25100 5032173.23800
SECONDARY_NE_QUAD_XY: 402230.70400 5032095.33900
SECONDARY_SE_QUAD_XY: 402122.81700 5025151.95600
SECONDARY_SW_QUAD_XY: 397228.96700 5025229.85700
RMSE_XY: 2.30000
IMAGE_SOURCE: BLACK AND WHITE FILM
SOURCE_IMAGE_ID: NAPP 9090 164
SOURCE_IMAGE_DATE: 1996 07 07
SOURCE_IMAGE_ID: NAPP 9102 093
SOURCE_IMAGE_DATE: 1996 07 14
SOURCE_IMAGE_ID: NAPP 9102 091
SOURCE_IMAGE_DATE: 1996 07 14
SOURCE_IMAGE_ID: NAPP 9097 017
SOURCE_IMAGE_DATE: 1996 07 12
SOURCE_IMAGE_ID: NAPP 9097 019
SOURCE_IMAGE_DATE: 1996 07 12
SOURCE_DEM_DATE: 1987 00 00
AGENCY: WESTERN MAPPING CENTER (WMC)
PRODUCER: UNDEFINED
PRODUCTION_SYSTEM: GIS/MAGIC
COMPRESSION: UNDEFINED
STANDARD_VERSION: 1996 12
METADATA_DATE: 1999 06 09
DATA_FILE_SIZE: 43086900
BYTE_COUNT: 5650
