FILENAME: O4510639.SES.1010746.tif
QUADRANGLE_NAME: KING MOUNTAIN
QUADRANT: SE
WEST_LONGITUDE: -106 11 15.00000
EAST_LONGITUDE: -106 7 30.00000
NORTH_LATITUDE: 45 26 15.00000
SOUTH_LATITUDE: 45 22 30.00000
PRODUCTION_DATE: 1999 6 7
RASTER_ORDER: LEFT_RIGHT/TOP_BOTTOM
BAND_ORGANIZATION: SINGLE FILE
BAND_CONTENT: BLACK&WHITE
BAND_CONTENT: UNDEFINED
BAND_CONTENT: UNDEFINED
BITS_PER_PIXEL: 8
SAMPLES_AND_LINES: 5639 7617
HORIZONTAL_DATUM: NAD83
HORIZONTAL_COORDINATE_SYSTEM: UTM
COORDINATE_ZONE: 13
HORIZONTAL_UNITS: METERS
HORIZONTAL_RESOLUTION: 1.00000
SECONDARY_HORIZONTAL_DATUM: NAD27
XY_ORIGIN: 406673.00000 5032540.00000
SECONDARY_XY_ORIGIN: 406714.84300 5032322.07100
NATION: US
NATION: "SCIENCE
STATE: MT
NW_QUAD_CORNER_XY: 407121.92700 5032238.78000
NE_QUAD_CORNER_XY: 412010.23700 5032168.48500
SE_QUAD_CORNERY_XY: 411913.14100 5025225.04800
SW_QUAD_CORNER_XY: 407019.43500 5025295.34500
SECONDARY_NW_QUAD_XY: 407119.15900 5032021.24100
SECONDARY_NE_QUAD_XY: 412007.61500 5031950.94400
SECONDARY_SE_QUAD_XY: 411910.52000 5025007.55800
SECONDARY_SW_QUAD_XY: 407016.66700 5025077.85600
RMSE_XY: 1.70000
IMAGE_SOURCE: BLACK AND WHITE FILM
SOURCE_IMAGE_ID: NAPP 9090 126
SOURCE_IMAGE_DATE: 1996 07 07
SOURCE_IMAGE_ID: NAPP 9090 166
SOURCE_IMAGE_DATE: 1996 07 07
SOURCE_IMAGE_ID: NAPP 9090 164
SOURCE_IMAGE_DATE: 1996 07 07
SOURCE_IMAGE_ID: NAPP 9090 127
SOURCE_IMAGE_DATE: 1996 07 07
SOURCE_DEM_DATE: 1962 00 00
AGENCY: WESTERN MAPPING CENTER (WMC)
PRODUCER: UNDEFINED
PRODUCTION_SYSTEM: GIS/MAGIC
COMPRESSION: UNDEFINED
STANDARD_VERSION: 1996 12
METADATA_DATE: 1999 06 09
DATA_FILE_SIZE: 42957902
BYTE_COUNT: 5639
