FILENAME: O4510639.NWS.1010745.tif
QUADRANGLE_NAME: KING MOUNTAIN
QUADRANT: NW
WEST_LONGITUDE: -106 15 0.00000
EAST_LONGITUDE: -106 11 15.00000
NORTH_LATITUDE: 45 30 0.00000
SOUTH_LATITUDE: 45 26 15.00000
PRODUCTION_DATE: 1999 6 7
RASTER_ORDER: LEFT_RIGHT/TOP_BOTTOM
BAND_ORGANIZATION: SINGLE FILE
BAND_CONTENT: BLACK&WHITE
BAND_CONTENT: UNDEFINED
BAND_CONTENT: UNDEFINED
BITS_PER_PIXEL: 8
SAMPLES_AND_LINES: 5639 7621
HORIZONTAL_DATUM: NAD83
HORIZONTAL_COORDINATE_SYSTEM: UTM
COORDINATE_ZONE: 13
HORIZONTAL_UNITS: METERS
HORIZONTAL_RESOLUTION: 1.00000
SECONDARY_HORIZONTAL_DATUM: NAD27
XY_ORIGIN: 401887.00000 5039557.00000
SECONDARY_XY_ORIGIN: 401928.77800 5039338.78900
NATION: US
NATION: "SCIENCE
STATE: MT
NW_QUAD_CORNER_XY: 402341.62300 5039256.38100
NE_QUAD_CORNER_XY: 407224.53000 5039182.28800
SE_QUAD_CORNERY_XY: 407121.92700 5032238.78000
SW_QUAD_CORNER_XY: 402233.61700 5032312.87600
SECONDARY_NW_QUAD_XY: 402338.70800 5039038.79500
SECONDARY_NE_QUAD_XY: 407221.76100 5038964.70000
SECONDARY_SE_QUAD_XY: 407119.15900 5032021.24100
SECONDARY_SW_QUAD_XY: 402230.70400 5032095.33900
RMSE_XY: 2.30000
IMAGE_SOURCE: BLACK AND WHITE FILM
SOURCE_IMAGE_ID: NAPP 9090 162
SOURCE_IMAGE_DATE: 1996 07 07
SOURCE_IMAGE_ID: NAPP 9097 019
SOURCE_IMAGE_DATE: 1996 07 12
SOURCE_IMAGE_ID: NAPP 9097 020
SOURCE_IMAGE_DATE: 1996 07 12
SOURCE_IMAGE_ID: NAPP 9097 021
SOURCE_IMAGE_DATE: 1996 07 12
SOURCE_IMAGE_ID: NAPP 9090 164
SOURCE_IMAGE_DATE: 1996 07 07
SOURCE_DEM_DATE: 1962 00 00
AGENCY: WESTERN MAPPING CENTER (WMC)
PRODUCER: UNDEFINED
PRODUCTION_SYSTEM: GIS/MAGIC
COMPRESSION: UNDEFINED
STANDARD_VERSION: 1996 12
METADATA_DATE: 1999 06 09
DATA_FILE_SIZE: 42980458
BYTE_COUNT: 5639
