FILENAME: O4510641.SES.1010786.tif
QUADRANGLE_NAME: KIRBY
QUADRANT: SE
WEST_LONGITUDE: -106 56 15.00000
EAST_LONGITUDE: -106 52 30.00000
NORTH_LATITUDE: 45 18 45.00000
SOUTH_LATITUDE: 45 15 0.00000
PRODUCTION_DATE: 1999 6 10
RASTER_ORDER: LEFT_RIGHT/TOP_BOTTOM
BAND_ORGANIZATION: SINGLE FILE
BAND_CONTENT: BLACK&WHITE
BAND_CONTENT: UNDEFINED
BAND_CONTENT: UNDEFINED
BITS_PER_PIXEL: 8
SAMPLES_AND_LINES: 5718 7664
HORIZONTAL_DATUM: NAD83
HORIZONTAL_COORDINATE_SYSTEM: UTM
COORDINATE_ZONE: 13
HORIZONTAL_UNITS: METERS
HORIZONTAL_RESOLUTION: 1.00000
SECONDARY_HORIZONTAL_DATUM: NAD27
XY_ORIGIN: 347611.00000 5019793.00000
SECONDARY_XY_ORIGIN: 347655.07800 5019576.92400
NATION: US
NATION: "SCIENCE
STATE: MT
NW_QUAD_CORNER_XY: 348127.99600 5019492.09900
NE_QUAD_CORNER_XY: 353027.07600 5019376.17500
SE_QUAD_CORNERY_XY: 352865.56400 5012432.90500
SW_QUAD_CORNER_XY: 347961.09600 5012548.83200
SECONDARY_NW_QUAD_XY: 348123.48200 5019274.69500
SECONDARY_NE_QUAD_XY: 353022.70800 5019158.76800
SECONDARY_SE_QUAD_XY: 352861.19700 5012215.55000
SECONDARY_SW_QUAD_XY: 347956.58400 5012331.48000
RMSE_XY: 2.10000
IMAGE_SOURCE: BLACK AND WHITE FILM
SOURCE_IMAGE_ID: NAPP 9085 179
SOURCE_IMAGE_DATE: 1996 06 13
SOURCE_IMAGE_ID: NAPP 9085 180
SOURCE_IMAGE_DATE: 1996 06 13
SOURCE_IMAGE_ID: NAPP 9085 178
SOURCE_IMAGE_DATE: 1996 06 13
SOURCE_DEM_DATE: 1987 00 00
AGENCY: WESTERN MAPPING CENTER (WMC)
PRODUCER: UNDEFINED
PRODUCTION_SYSTEM: GIS/MAGIC
COMPRESSION: UNDEFINED
STANDARD_VERSION: 1996 12
METADATA_DATE: 1999 06 15
DATA_FILE_SIZE: 43828470
BYTE_COUNT: 5718
