FILENAME: O4510642.NWS.1010789.tif
QUADRANGLE_NAME: TAINTOR DESERT
QUADRANT: NW
WEST_LONGITUDE: -106 52 30.00000
EAST_LONGITUDE: -106 48 45.00000
NORTH_LATITUDE: 45 22 30.00000
SOUTH_LATITUDE: 45 18 45.00000
PRODUCTION_DATE: 1999 6 10
RASTER_ORDER: LEFT_RIGHT/TOP_BOTTOM
BAND_ORGANIZATION: SINGLE FILE
BAND_CONTENT: BLACK&WHITE
BAND_CONTENT: UNDEFINED
BAND_CONTENT: UNDEFINED
BITS_PER_PIXEL: 8
SAMPLES_AND_LINES: 5707 7659
HORIZONTAL_DATUM: NAD83
HORIZONTAL_COORDINATE_SYSTEM: UTM
COORDINATE_ZONE: 13
HORIZONTAL_UNITS: METERS
HORIZONTAL_RESOLUTION: 1.00000
SECONDARY_HORIZONTAL_DATUM: NAD27
XY_ORIGIN: 352677.00000 5026620.00000
SECONDARY_XY_ORIGIN: 352720.59100 5026403.54900
NATION: US
NATION: "SCIENCE
STATE: MT
NW_QUAD_CORNER_XY: 353188.76400 5026319.51300
NE_QUAD_CORNER_XY: 358082.45200 5026207.39500
SE_QUAD_CORNERY_XY: 357926.15800 5019264.05500
SW_QUAD_CORNER_XY: 353027.07600 5019376.17500
SECONDARY_NW_QUAD_XY: 353184.39500 5026102.05500
SECONDARY_NE_QUAD_XY: 358078.22900 5025989.93400
SECONDARY_SE_QUAD_XY: 357921.93500 5019046.64400
SECONDARY_SW_QUAD_XY: 353022.70800 5019158.76800
RMSE_XY: 2.30000
IMAGE_SOURCE: BLACK AND WHITE FILM
SOURCE_IMAGE_ID: NAPP 9115 027
SOURCE_IMAGE_DATE: 1996 09 10
SOURCE_IMAGE_ID: NAPP 9115 026
SOURCE_IMAGE_DATE: 1996 09 10
SOURCE_IMAGE_ID: NAPP 9115 028
SOURCE_IMAGE_DATE: 1996 09 10
SOURCE_IMAGE_ID: NAPP 9115 082
SOURCE_IMAGE_DATE: 1996 09 10
SOURCE_DEM_DATE: 1987 00 00
AGENCY: WESTERN MAPPING CENTER (WMC)
PRODUCER: UNDEFINED
PRODUCTION_SYSTEM: GIS/MAGIC
COMPRESSION: UNDEFINED
STANDARD_VERSION: 1996 12
METADATA_DATE: 1999 06 15
DATA_FILE_SIZE: 43715620
BYTE_COUNT: 5707
