FILENAME: O4510642.NES.1010788.tif
QUADRANGLE_NAME: TAINTOR DESERT
QUADRANT: NE
WEST_LONGITUDE: -106 48 45.00000
EAST_LONGITUDE: -106 45 0.00000
NORTH_LATITUDE: 45 22 30.00000
SOUTH_LATITUDE: 45 18 45.00000
PRODUCTION_DATE: 1999 6 10
RASTER_ORDER: LEFT_RIGHT/TOP_BOTTOM
BAND_ORGANIZATION: SINGLE FILE
BAND_CONTENT: BLACK&WHITE
BAND_CONTENT: UNDEFINED
BAND_CONTENT: UNDEFINED
BITS_PER_PIXEL: 8
SAMPLES_AND_LINES: 5701 7656
HORIZONTAL_DATUM: NAD83
HORIZONTAL_COORDINATE_SYSTEM: UTM
COORDINATE_ZONE: 13
HORIZONTAL_UNITS: METERS
HORIZONTAL_RESOLUTION: 1.00000
SECONDARY_HORIZONTAL_DATUM: NAD27
XY_ORIGIN: 357577.00000 5026508.00000
SECONDARY_XY_ORIGIN: 357620.43800 5026291.39900
NATION: US
NATION: "SCIENCE
STATE: MT
NW_QUAD_CORNER_XY: 358082.45200 5026207.39500
NE_QUAD_CORNER_XY: 362976.14300 5026099.08000
SE_QUAD_CORNERY_XY: 362825.24100 5019155.73700
SW_QUAD_CORNER_XY: 357926.15800 5019264.05500
SECONDARY_NW_QUAD_XY: 358078.22900 5025989.93400
SECONDARY_NE_QUAD_XY: 362972.06500 5025881.61600
SECONDARY_SE_QUAD_XY: 362821.16400 5018938.32300
SECONDARY_SW_QUAD_XY: 357921.93500 5019046.64400
RMSE_XY: 1.00000
IMAGE_SOURCE: BLACK AND WHITE FILM
SOURCE_IMAGE_ID: NAPP 9115 115
SOURCE_IMAGE_DATE: 1996 09 10
SOURCE_IMAGE_ID: NAPP 9115 026
SOURCE_IMAGE_DATE: 1996 09 10
SOURCE_IMAGE_ID: NAPP 9115 027
SOURCE_IMAGE_DATE: 1996 09 10
SOURCE_IMAGE_ID: NAPP 9115 028
SOURCE_IMAGE_DATE: 1996 09 10
SOURCE_IMAGE_ID: NAPP 9115 084
SOURCE_IMAGE_DATE: 1996 09 10
SOURCE_DEM_DATE: 1987 00 00
AGENCY: WESTERN MAPPING CENTER (WMC)
PRODUCER: UNDEFINED
PRODUCTION_SYSTEM: GIS/MAGIC
COMPRESSION: UNDEFINED
STANDARD_VERSION: 1996 12
METADATA_DATE: 1999 06 15
DATA_FILE_SIZE: 43652557
BYTE_COUNT: 5701
