FILENAME: O4510643.SWS.1010799.tif
QUADRANGLE_NAME: BIRNEY SW
QUADRANT: SW
WEST_LONGITUDE: -106 45 0.00000
EAST_LONGITUDE: -106 41 15.00000
NORTH_LATITUDE: 45 18 45.00000
SOUTH_LATITUDE: 45 15 0.00000
PRODUCTION_DATE: 1999 6 11
RASTER_ORDER: LEFT_RIGHT/TOP_BOTTOM
BAND_ORGANIZATION: SINGLE FILE
BAND_CONTENT: BLACK&WHITE
BAND_CONTENT: UNDEFINED
BAND_CONTENT: UNDEFINED
BITS_PER_PIXEL: 8
SAMPLES_AND_LINES: 5701 7651
HORIZONTAL_DATUM: NAD83
HORIZONTAL_COORDINATE_SYSTEM: UTM
COORDINATE_ZONE: 13
HORIZONTAL_UNITS: METERS
HORIZONTAL_RESOLUTION: 1.00000
SECONDARY_HORIZONTAL_DATUM: NAD27
XY_ORIGIN: 362325.00000 5019456.00000
SECONDARY_XY_ORIGIN: 362368.62000 5019239.47600
NATION: US
NATION: "SCIENCE
STATE: MT
NW_QUAD_CORNER_XY: 362825.24100 5019155.73700
NE_QUAD_CORNER_XY: 367724.32600 5019051.22200
SE_QUAD_CORNERY_XY: 367578.97500 5012107.94700
SW_QUAD_CORNER_XY: 362674.50300 5012212.46300
SECONDARY_NW_QUAD_XY: 362821.16400 5018938.32300
SECONDARY_NE_QUAD_XY: 367720.39400 5018833.80600
SECONDARY_SE_QUAD_XY: 367575.04400 5011890.58100
SECONDARY_SW_QUAD_XY: 362670.42700 5011995.10100
RMSE_XY: 2.80000
IMAGE_SOURCE: BLACK AND WHITE FILM
SOURCE_IMAGE_ID: NAPP 9115 112
SOURCE_IMAGE_DATE: 1996 09 10
SOURCE_IMAGE_ID: NAPP 9115 086
SOURCE_IMAGE_DATE: 1996 09 10
SOURCE_IMAGE_ID: NAPP 9115 111
SOURCE_IMAGE_DATE: 1996 09 10
SOURCE_IMAGE_ID: NAPP 9115 113
SOURCE_IMAGE_DATE: 1996 09 10
SOURCE_DEM_DATE: 1987 00 00
AGENCY: WESTERN MAPPING CENTER (WMC)
PRODUCER: UNDEFINED
PRODUCTION_SYSTEM: GIS/MAGIC
COMPRESSION: UNDEFINED
STANDARD_VERSION: 1996 12
METADATA_DATE: 1999 06 15
DATA_FILE_SIZE: 43624052
BYTE_COUNT: 5701
