FILENAME: O4510644.SWS.1010811.tif
QUADRANGLE_NAME: BIRNEY
QUADRANT: SW
WEST_LONGITUDE: -106 37 30.00000
EAST_LONGITUDE: -106 33 45.00000
NORTH_LATITUDE: 45 18 45.00000
SOUTH_LATITUDE: 45 15 0.00000
PRODUCTION_DATE: 1999 6 11
RASTER_ORDER: LEFT_RIGHT/TOP_BOTTOM
BAND_ORGANIZATION: SINGLE FILE
BAND_CONTENT: BLACK&WHITE
BAND_CONTENT: UNDEFINED
BAND_CONTENT: UNDEFINED
BITS_PER_PIXEL: 8
SAMPLES_AND_LINES: 5689 7644
HORIZONTAL_DATUM: NAD83
HORIZONTAL_COORDINATE_SYSTEM: UTM
COORDINATE_ZONE: 13
HORIZONTAL_UNITS: METERS
HORIZONTAL_RESOLUTION: 1.00000
SECONDARY_HORIZONTAL_DATUM: NAD27
XY_ORIGIN: 372135.00000 5019251.00000
SECONDARY_XY_ORIGIN: 372178.28000 5019034.12200
NATION: US
NATION: "SCIENCE
STATE: MT
NW_QUAD_CORNER_XY: 372623.41200 5018950.51100
NE_QUAD_CORNER_XY: 377522.50000 5018853.60100
SE_QUAD_CORNERY_XY: 377387.92100 5011910.32100
SW_QUAD_CORNER_XY: 372483.44700 5012007.23300
SECONDARY_NW_QUAD_XY: 372619.62600 5018733.09100
SECONDARY_NE_QUAD_XY: 377518.86000 5018636.17800
SECONDARY_SE_QUAD_XY: 377384.28200 5011692.95000
SECONDARY_SW_QUAD_XY: 372479.66300 5011789.86500
RMSE_XY: 1.60000
IMAGE_SOURCE: BLACK AND WHITE FILM
SOURCE_IMAGE_ID: NAPP 9111 010
SOURCE_IMAGE_DATE: 1996 08 11
SOURCE_DEM_DATE: 1966 00 00
AGENCY: WESTERN MAPPING CENTER (WMC)
PRODUCER: UNDEFINED
PRODUCTION_SYSTEM: GIS/MAGIC
COMPRESSION: UNDEFINED
STANDARD_VERSION: 1996 12
METADATA_DATE: 1999 06 15
DATA_FILE_SIZE: 43492405
BYTE_COUNT: 5689
