FILENAME: O4510644.SES.1010810.tif
QUADRANGLE_NAME: BIRNEY
QUADRANT: SE
WEST_LONGITUDE: -106 33 45.00000
EAST_LONGITUDE: -106 30 0.00000
NORTH_LATITUDE: 45 18 45.00000
SOUTH_LATITUDE: 45 15 0.00000
PRODUCTION_DATE: 1999 6 11
RASTER_ORDER: LEFT_RIGHT/TOP_BOTTOM
BAND_ORGANIZATION: SINGLE FILE
BAND_CONTENT: BLACK&WHITE
BAND_CONTENT: UNDEFINED
BAND_CONTENT: UNDEFINED
BITS_PER_PIXEL: 8
SAMPLES_AND_LINES: 5684 7640
HORIZONTAL_DATUM: NAD83
HORIZONTAL_COORDINATE_SYSTEM: UTM
COORDINATE_ZONE: 13
HORIZONTAL_UNITS: METERS
HORIZONTAL_RESOLUTION: 1.00000
SECONDARY_HORIZONTAL_DATUM: NAD27
XY_ORIGIN: 377039.00000 5019154.00000
SECONDARY_XY_ORIGIN: 377082.11100 5018936.94400
NATION: US
NATION: "SCIENCE
STATE: MT
NW_QUAD_CORNER_XY: 377522.50000 5018853.60100
NE_QUAD_CORNER_XY: 382421.58900 5018760.49400
SE_QUAD_CORNERY_XY: 382292.39600 5011817.21200
SW_QUAD_CORNER_XY: 377387.92100 5011910.32100
SECONDARY_NW_QUAD_XY: 377518.86000 5018636.17800
SECONDARY_NE_QUAD_XY: 382418.09500 5018543.06800
SECONDARY_SE_QUAD_XY: 382288.90200 5011599.83900
SECONDARY_SW_QUAD_XY: 377384.28200 5011692.95000
RMSE_XY: 2.30000
IMAGE_SOURCE: BLACK AND WHITE FILM
SOURCE_IMAGE_ID: NAPP 9110 019
SOURCE_IMAGE_DATE: 1996 08 11
SOURCE_IMAGE_ID: NAPP 9110 018
SOURCE_IMAGE_DATE: 1996 08 11
SOURCE_DEM_DATE: 1966 00 00
AGENCY: WESTERN MAPPING CENTER (WMC)
PRODUCER: UNDEFINED
PRODUCTION_SYSTEM: GIS/MAGIC
COMPRESSION: UNDEFINED
STANDARD_VERSION: 1996 12
METADATA_DATE: 1999 06 15
DATA_FILE_SIZE: 43431444
BYTE_COUNT: 5684
